Workbook

Sheet школьный
A1: Предмет: | B1: Физическая культура (Юноши) | D1: Заполняйте лист «Рабочий протокол». Этот лист рассчитывается автоматически.
A2: Количество участников: | B2: =COUNTIF('Рабочий протокол'!M4:M103,"OK") -> 1 | D2: =IF(COUNTIF('Рабочий протокол'!M4:M103,"?*")=0,"Нет заполненных строк",IF(COUNTIF('Рабочий протокол'!M4:M103,"?*")-COUNTIF('Рабочий протокол'!M4:M103,"OK")>0,"Загрузка отключена: исправьте замечания на рабочем листе","Можно загружать: все заполненные строки проверены")) -> Можно загружать: все заполненные строки проверены
A3: Класс: | B3: 6
A4: Этап: | B4: Школьный этап олимпиад 2026
F5: Гимнастика | J5: Полоса
A6: № строки | B6: Код участника (13 цифр) | C6: Итого | F6: 1 | J6: 2 | K6: Проверка
C7: Максимум | F7: 40 | J7: 40
A8: 1 | B8: =IF(COUNTIF('Рабочий протокол'!M$4:M$103,"?*")-COUNTIF('Рабочий протокол'!M$4:M$103,"OK")>0,"",IF('Рабочий протокол'!M4="OK",'Рабочий протокол'!C4&"","")) -> 0104206782620 | C8: =IF(B8="","",'Рабочий протокол'!L4) -> 80 | F8: =IF(B8="","",'Рабочий протокол'!K4) -> 40 | J8: =IF(B8="","",'Рабочий протокол'!G4) -> 40 | K8: =IF('Рабочий протокол'!M4="","",'Рабочий протокол'!M4) -> OK
A9: 2 | B9: =IF(COUNTIF('Рабочий протокол'!M$4:M$103,"?*")-COUNTIF('Рабочий протокол'!M$4:M$103,"OK")>0,"",IF('Рабочий протокол'!M5="OK",'Рабочий протокол'!C5&"","")) | C9: =IF(B9="","",'Рабочий протокол'!L5) | F9: =IF(B9="","",'Рабочий протокол'!K5) | J9: =IF(B9="","",'Рабочий протокол'!G5) | K9: =IF('Рабочий протокол'!M5="","",'Рабочий протокол'!M5)
A10: 3 | B10: =IF(COUNTIF('Рабочий протокол'!M$4:M$103,"?*")-COUNTIF('Рабочий протокол'!M$4:M$103,"OK")>0,"",IF('Рабочий протокол'!M6="OK",'Рабочий протокол'!C6&"","")) | C10: =IF(B10="","",'Рабочий протокол'!L6) | F10: =IF(B10="","",'Рабочий протокол'!K6) | J10: =IF(B10="","",'Рабочий протокол'!G6) | K10: =IF('Рабочий протокол'!M6="","",'Рабочий протокол'!M6)
A11: 4 | B11: =IF(COUNTIF('Рабочий протокол'!M$4:M$103,"?*")-COUNTIF('Рабочий протокол'!M$4:M$103,"OK")>0,"",IF('Рабочий протокол'!M7="OK",'Рабочий протокол'!C7&"","")) | C11: =IF(B11="","",'Рабочий протокол'!L7) | F11: =IF(B11="","",'Рабочий протокол'!K7) | J11: =IF(B11="","",'Рабочий протокол'!G7) | K11: =IF('Рабочий протокол'!M7="","",'Рабочий протокол'!M7)
A12: 5 | B12: =IF(COUNTIF('Рабочий протокол'!M$4:M$103,"?*")-COUNTIF('Рабочий протокол'!M$4:M$103,"OK")>0,"",IF('Рабочий протокол'!M8="OK",'Рабочий протокол'!C8&"","")) | C12: =IF(B12="","",'Рабочий протокол'!L8) | F12: =IF(B12="","",'Рабочий протокол'!K8) | J12: =IF(B12="","",'Рабочий протокол'!G8) | K12: =IF('Рабочий протокол'!M8="","",'Рабочий протокол'!M8)
A13: 6 | B13: =IF(COUNTIF('Рабочий протокол'!M$4:M$103,"?*")-COUNTIF('Рабочий протокол'!M$4:M$103,"OK")>0,"",IF('Рабочий протокол'!M9="OK",'Рабочий протокол'!C9&"","")) | C13: =IF(B13="","",'Рабочий протокол'!L9) | F13: =IF(B13="","",'Рабочий протокол'!K9) | J13: =IF(B13="","",'Рабочий протокол'!G9) | K13: =IF('Рабочий протокол'!M9="","",'Рабочий протокол'!M9)
A14: 7 | B14: =IF(COUNTIF('Рабочий протокол'!M$4:M$103,"?*")-COUNTIF('Рабочий протокол'!M$4:M$103,"OK")>0,"",IF('Рабочий протокол'!M10="OK",'Рабочий протокол'!C10&"","")) | C14: =IF(B14="","",'Рабочий протокол'!L10) | F14: =IF(B14="","",'Рабочий протокол'!K10) | J14: =IF(B14="","",'Рабочий протокол'!G10) | K14: =IF('Рабочий протокол'!M10="","",'Рабочий протокол'!M10)
A15: 8 | B15: =IF(COUNTIF('Рабочий протокол'!M$4:M$103,"?*")-COUNTIF('Рабочий протокол'!M$4:M$103,"OK")>0,"",IF('Рабочий протокол'!M11="OK",'Рабочий протокол'!C11&"","")) | C15: =IF(B15="","",'Рабочий протокол'!L11) | F15: =IF(B15="","",'Рабочий протокол'!K11) | J15: =IF(B15="","",'Рабочий протокол'!G11) | K15: =IF('Рабочий протокол'!M11="","",'Рабочий протокол'!M11)
A16: 9 | B16: =IF(COUNTIF('Рабочий протокол'!M$4:M$103,"?*")-COUNTIF('Рабочий протокол'!M$4:M$103,"OK")>0,"",IF('Рабочий протокол'!M12="OK",'Рабочий протокол'!C12&"","")) | C16: =IF(B16="","",'Рабочий протокол'!L12) | F16: =IF(B16="","",'Рабочий протокол'!K12) | J16: =IF(B16="","",'Рабочий протокол'!G12) | K16: =IF('Рабочий протокол'!M12="","",'Рабочий протокол'!M12)
A17: 10 | B17: =IF(COUNTIF('Рабочий протокол'!M$4:M$103,"?*")-COUNTIF('Рабочий протокол'!M$4:M$103,"OK")>0,"",IF('Рабочий протокол'!M13="OK",'Рабочий протокол'!C13&"","")) | C17: =IF(B17="","",'Рабочий протокол'!L13) | F17: =IF(B17="","",'Рабочий протокол'!K13) | J17: =IF(B17="","",'Рабочий протокол'!G13) | K17: =IF('Рабочий протокол'!M13="","",'Рабочий протокол'!M13)
A18: 11 | B18: =IF(COUNTIF('Рабочий протокол'!M$4:M$103,"?*")-COUNTIF('Рабочий протокол'!M$4:M$103,"OK")>0,"",IF('Рабочий протокол'!M14="OK",'Рабочий протокол'!C14&"","")) | C18: =IF(B18="","",'Рабочий протокол'!L14) | F18: =IF(B18="","",'Рабочий протокол'!K14) | J18: =IF(B18="","",'Рабочий протокол'!G14) | K18: =IF('Рабочий протокол'!M14="","",'Рабочий протокол'!M14)
A19: 12 | B19: =IF(COUNTIF('Рабочий протокол'!M$4:M$103,"?*")-COUNTIF('Рабочий протокол'!M$4:M$103,"OK")>0,"",IF('Рабочий протокол'!M15="OK",'Рабочий протокол'!C15&"","")) | C19: =IF(B19="","",'Рабочий протокол'!L15) | F19: =IF(B19="","",'Рабочий протокол'!K15) | J19: =IF(B19="","",'Рабочий протокол'!G15) | K19: =IF('Рабочий протокол'!M15="","",'Рабочий протокол'!M15)
... A107: 100 | B107: =IF(COUNTIF('Рабочий протокол'!M$4:M$103,"?*")-COUNTIF('Рабочий протокол'!M$4:M$103,"OK")>0,"",IF('Рабочий протокол'!M103="OK",'Рабочий протокол'!C103&"","")) | C107: =IF(B107="","",'Рабочий протокол'!L103) | F107: =IF(B107="","",'Рабочий протокол'!K103) | J107: =IF(B107="","",'Рабочий протокол'!G103) | K107: =IF('Рабочий протокол'!M103="","",'Рабочий протокол'!M103)

Sheet Рабочий протокол
D1: Полоса препятствий (личный результат) | H1: Гимнастика (личный результат) | L1: итог | N1: Физическая культура • юноши • 5–6 классы • 2026/27
D2: K | E2: M | F2: Ni | G2: Xi | H2: K | I2: M | J2: Ni | K2: Xi | N2: Одна школа, один пол и одна возрастная группа в каждом комплекте.
A3: № строки | C3: Код участника (13 цифр) | D3: 40 | E3: =IF(Расчёт!I4="",MIN(Расчёт!F4:F103),Расчёт!I4) -> 51.1 | H3: 40 | I3: =IF(Расчёт!I5="",MAX(Расчёт!E4:E103),Расчёт!I5) -> 5 | L3: 80 | M3: Проверка
A4: 1 | C4: 0104206782620 | D4: 40 | E4: =IF(COUNTA(B4:C4,F4,J4)=0,"",$E$3) -> 51.1 | F4: 51.1 | G4: =IF(NOT(ISNUMBER(Расчёт!D4)),"",IF(Расчёт!D4<0,"",IF(Расчёт!D4=0,0,IF(AND(ISNUMBER($E$3),$E$3>0,$E$3<=Расчёт!D4),ROUND(D4*$E$3/Расчёт!D4,2),"")))) -> 40 | H4: 40 | I4: =IF(COUNTA(B4:C4,F4,J4)=0,"",$I$3) -> 5 | J4: 5 | K4: =IF(NOT(ISNUMBER(Расчёт!E4)),"",IF(OR(Расчёт!E4<0,Расчёт!E4>10),"",IF(Расчёт!E4=0,0,IF(AND(ISNUMBER($I$3),$I$3>=Расчёт!E4,$I$3<=10,$I$3>0),ROUND(H4*Расчёт!E4/$I$3,2),"")))) -> 40 | L4: =IF(COUNT(G4,K4)=2,ROUND(G4+K4,2),"") -> 80 | M4: =IF(Расчёт!W4="","",Расчёт!W4) -> OK | N4: Общее лучшее время полосы, с
A5: 2 | D5: 40 | E5: =IF(COUNTA(B5:C5,F5,J5)=0,"",$E$3) | G5: =IF(NOT(ISNUMBER(Расчёт!D5)),"",IF(Расчёт!D5<0,"",IF(Расчёт!D5=0,0,IF(AND(ISNUMBER($E$3),$E$3>0,$E$3<=Расчёт!D5),ROUND(D5*$E$3/Расчёт!D5,2),"")))) | H5: 40 | I5: =IF(COUNTA(B5:C5,F5,J5)=0,"",$I$3) | K5: =IF(NOT(ISNUMBER(Расчёт!E5)),"",IF(OR(Расчёт!E5<0,Расчёт!E5>10),"",IF(Расчёт!E5=0,0,IF(AND(ISNUMBER($I$3),$I$3>=Расчёт!E5,$I$3<=10,$I$3>0),ROUND(H5*Расчёт!E5/$I$3,2),"")))) | L5: =IF(COUNT(G5,K5)=2,ROUND(G5+K5,2),"") | M5: =IF(Расчёт!W5="","",Расчёт!W5) | N5: Общая лучшая оценка гимнастики
A6: 3 | D6: 40 | E6: =IF(COUNTA(B6:C6,F6,J6)=0,"",$E$3) | G6: =IF(NOT(ISNUMBER(Расчёт!D6)),"",IF(Расчёт!D6<0,"",IF(Расчёт!D6=0,0,IF(AND(ISNUMBER($E$3),$E$3>0,$E$3<=Расчёт!D6),ROUND(D6*$E$3/Расчёт!D6,2),"")))) | H6: 40 | I6: =IF(COUNTA(B6:C6,F6,J6)=0,"",$I$3) | K6: =IF(NOT(ISNUMBER(Расчёт!E6)),"",IF(OR(Расчёт!E6<0,Расчёт!E6>10),"",IF(Расчёт!E6=0,0,IF(AND(ISNUMBER($I$3),$I$3>=Расчёт!E6,$I$3<=10,$I$3>0),ROUND(H6*Расчёт!E6/$I$3,2),"")))) | L6: =IF(COUNT(G6,K6)=2,ROUND(G6+K6,2),"") | M6: =IF(Расчёт!W6="","",Расчёт!W6)
A7: 4 | D7: 40 | E7: =IF(COUNTA(B7:C7,F7,J7)=0,"",$E$3) | G7: =IF(NOT(ISNUMBER(Расчёт!D7)),"",IF(Расчёт!D7<0,"",IF(Расчёт!D7=0,0,IF(AND(ISNUMBER($E$3),$E$3>0,$E$3<=Расчёт!D7),ROUND(D7*$E$3/Расчёт!D7,2),"")))) | H7: 40 | I7: =IF(COUNTA(B7:C7,F7,J7)=0,"",$I$3) | K7: =IF(NOT(ISNUMBER(Расчёт!E7)),"",IF(OR(Расчёт!E7<0,Расчёт!E7>10),"",IF(Расчёт!E7=0,0,IF(AND(ISNUMBER($I$3),$I$3>=Расчёт!E7,$I$3<=10,$I$3>0),ROUND(H7*Расчёт!E7/$I$3,2),"")))) | L7: =IF(COUNT(G7,K7)=2,ROUND(G7+K7,2),"") | M7: =IF(Расчёт!W7="","",Расчёт!W7) | N7: Заполните 13-значный код и персиковые ячейки Ni. ФИО не вносите.
A8: 5 | D8: 40 | E8: =IF(COUNTA(B8:C8,F8,J8)=0,"",$E$3) | G8: =IF(NOT(ISNUMBER(Расчёт!D8)),"",IF(Расчёт!D8<0,"",IF(Расчёт!D8=0,0,IF(AND(ISNUMBER($E$3),$E$3>0,$E$3<=Расчёт!D8),ROUND(D8*$E$3/Расчёт!D8,2),"")))) | H8: 40 | I8: =IF(COUNTA(B8:C8,F8,J8)=0,"",$I$3) | K8: =IF(NOT(ISNUMBER(Расчёт!E8)),"",IF(OR(Расчёт!E8<0,Расчёт!E8>10),"",IF(Расчёт!E8=0,0,IF(AND(ISNUMBER($I$3),$I$3>=Расчёт!E8,$I$3<=10,$I$3>0),ROUND(H8*Расчёт!E8/$I$3,2),"")))) | L8: =IF(COUNT(G8,K8)=2,ROUND(G8+K8,2),"") | M8: =IF(Расчёт!W8="","",Расчёт!W8) | N8: Полоса: итоговое время в секундах с учётом штрафов и поощрений.
A9: 6 | D9: 40 | E9: =IF(COUNTA(B9:C9,F9,J9)=0,"",$E$3) | G9: =IF(NOT(ISNUMBER(Расчёт!D9)),"",IF(Расчёт!D9<0,"",IF(Расчёт!D9=0,0,IF(AND(ISNUMBER($E$3),$E$3>0,$E$3<=Расчёт!D9),ROUND(D9*$E$3/Расчёт!D9,2),"")))) | H9: 40 | I9: =IF(COUNTA(B9:C9,F9,J9)=0,"",$I$3) | K9: =IF(NOT(ISNUMBER(Расчёт!E9)),"",IF(OR(Расчёт!E9<0,Расчёт!E9>10),"",IF(Расчёт!E9=0,0,IF(AND(ISNUMBER($I$3),$I$3>=Расчёт!E9,$I$3<=10,$I$3>0),ROUND(H9*Расчёт!E9/$I$3,2),"")))) | L9: =IF(COUNT(G9,K9)=2,ROUND(G9+K9,2),"") | M9: =IF(Расчёт!W9="","",Расчёт!W9) | N9: Гимнастика: окончательная судейская оценка от 0 до 10.
A10: 7 | D10: 40 | E10: =IF(COUNTA(B10:C10,F10,J10)=0,"",$E$3) | G10: =IF(NOT(ISNUMBER(Расчёт!D10)),"",IF(Расчёт!D10<0,"",IF(Расчёт!D10=0,0,IF(AND(ISNUMBER($E$3),$E$3>0,$E$3<=Расчёт!D10),ROUND(D10*$E$3/Расчёт!D10,2),"")))) | H10: 40 | I10: =IF(COUNTA(B10:C10,F10,J10)=0,"",$I$3) | K10: =IF(NOT(ISNUMBER(Расчёт!E10)),"",IF(OR(Расчёт!E10<0,Расчёт!E10>10),"",IF(Расчёт!E10=0,0,IF(AND(ISNUMBER($I$3),$I$3>=Расчёт!E10,$I$3<=10,$I$3>0),ROUND(H10*Расчёт!E10/$I$3,2),"")))) | L10: =IF(COUNT(G10,K10)=2,ROUND(G10+K10,2),"") | M10: =IF(Расчёт!W10="","",Расчёт!W10) | N10: Число 0 означает невыполненное испытание. Пусто — результат ещё не внесён.
A11: 8 | D11: 40 | E11: =IF(COUNTA(B11:C11,F11,J11)=0,"",$E$3) | G11: =IF(NOT(ISNUMBER(Расчёт!D11)),"",IF(Расчёт!D11<0,"",IF(Расчёт!D11=0,0,IF(AND(ISNUMBER($E$3),$E$3>0,$E$3<=Расчёт!D11),ROUND(D11*$E$3/Расчёт!D11,2),"")))) | H11: 40 | I11: =IF(COUNTA(B11:C11,F11,J11)=0,"",$I$3) | K11: =IF(NOT(ISNUMBER(Расчёт!E11)),"",IF(OR(Расчёт!E11<0,Расчёт!E11>10),"",IF(Расчёт!E11=0,0,IF(AND(ISNUMBER($I$3),$I$3>=Расчёт!E11,$I$3<=10,$I$3>0),ROUND(H11*Расчёт!E11/$I$3,2),"")))) | L11: =IF(COUNT(G11,K11)=2,ROUND(G11+K11,2),"") | M11: =IF(Расчёт!W11="","",Расчёт!W11) | N11: K — максимум 40; M — лучший результат группы; Ni — личный; Xi — зачётный.
A12: 9 | D12: 40 | E12: =IF(COUNTA(B12:C12,F12,J12)=0,"",$E$3) | G12: =IF(NOT(ISNUMBER(Расчёт!D12)),"",IF(Расчёт!D12<0,"",IF(Расчёт!D12=0,0,IF(AND(ISNUMBER($E$3),$E$3>0,$E$3<=Расчёт!D12),ROUND(D12*$E$3/Расчёт!D12,2),"")))) | H12: 40 | I12: =IF(COUNTA(B12:C12,F12,J12)=0,"",$I$3) | K12: =IF(NOT(ISNUMBER(Расчёт!E12)),"",IF(OR(Расчёт!E12<0,Расчёт!E12>10),"",IF(Расчёт!E12=0,0,IF(AND(ISNUMBER($I$3),$I$3>=Расчёт!E12,$I$3<=10,$I$3>0),ROUND(H12*Расчёт!E12/$I$3,2),"")))) | L12: =IF(COUNT(G12,K12)=2,ROUND(G12+K12,2),"") | M12: =IF(Расчёт!W12="","",Расчёт!W12) | N12: Полоса: 40 × лучшее положительное время / личное время.
A13: 10 | D13: 40 | E13: =IF(COUNTA(B13:C13,F13,J13)=0,"",$E$3) | G13: =IF(NOT(ISNUMBER(Расчёт!D13)),"",IF(Расчёт!D13<0,"",IF(Расчёт!D13=0,0,IF(AND(ISNUMBER($E$3),$E$3>0,$E$3<=Расчёт!D13),ROUND(D13*$E$3/Расчёт!D13,2),"")))) | H13: 40 | I13: =IF(COUNTA(B13:C13,F13,J13)=0,"",$I$3) | K13: =IF(NOT(ISNUMBER(Расчёт!E13)),"",IF(OR(Расчёт!E13<0,Расчёт!E13>10),"",IF(Расчёт!E13=0,0,IF(AND(ISNUMBER($I$3),$I$3>=Расчёт!E13,$I$3<=10,$I$3>0),ROUND(H13*Расчёт!E13/$I$3,2),"")))) | L13: =IF(COUNT(G13,K13)=2,ROUND(G13+K13,2),"") | M13: =IF(Расчёт!W13="","",Расчёт!W13) | N13: Гимнастика: 40 × личная оценка / наибольшая оценка группы.
A14: 11 | D14: 40 | E14: =IF(COUNTA(B14:C14,F14,J14)=0,"",$E$3) | G14: =IF(NOT(ISNUMBER(Расчёт!D14)),"",IF(Расчёт!D14<0,"",IF(Расчёт!D14=0,0,IF(AND(ISNUMBER($E$3),$E$3>0,$E$3<=Расчёт!D14),ROUND(D14*$E$3/Расчёт!D14,2),"")))) | H14: 40 | I14: =IF(COUNTA(B14:C14,F14,J14)=0,"",$I$3) | K14: =IF(NOT(ISNUMBER(Расчёт!E14)),"",IF(OR(Расчёт!E14<0,Расчёт!E14>10),"",IF(Расчёт!E14=0,0,IF(AND(ISNUMBER($I$3),$I$3>=Расчёт!E14,$I$3<=10,$I$3>0),ROUND(H14*Расчёт!E14/$I$3,2),"")))) | L14: =IF(COUNT(G14,K14)=2,ROUND(G14+K14,2),"") | M14: =IF(Расчёт!W14="","",Расчёт!W14) | N14: Лучшие результаты вычисляются автоматически по всем 100 строкам.
A15: 12 | D15: 40 | E15: =IF(COUNTA(B15:C15,F15,J15)=0,"",$E$3) | G15: =IF(NOT(ISNUMBER(Расчёт!D15)),"",IF(Расчёт!D15<0,"",IF(Расчёт!D15=0,0,IF(AND(ISNUMBER($E$3),$E$3>0,$E$3<=Расчёт!D15),ROUND(D15*$E$3/Расчёт!D15,2),"")))) | H15: 40 | I15: =IF(COUNTA(B15:C15,F15,J15)=0,"",$I$3) | K15: =IF(NOT(ISNUMBER(Расчёт!E15)),"",IF(OR(Расчёт!E15<0,Расчёт!E15>10),"",IF(Расчёт!E15=0,0,IF(AND(ISNUMBER($I$3),$I$3>=Расчёт!E15,$I$3<=10,$I$3>0),ROUND(H15*Расчёт!E15/$I$3,2),"")))) | L15: =IF(COUNT(G15,K15)=2,ROUND(G15+K15,2),"") | M15: =IF(Расчёт!W15="","",Расчёт!W15) | N15: Если группа разделена на файлы, задайте оба общих лучших значения выше.
A16: 13 | D16: 40 | E16: =IF(COUNTA(B16:C16,F16,J16)=0,"",$E$3) | G16: =IF(NOT(ISNUMBER(Расчёт!D16)),"",IF(Расчёт!D16<0,"",IF(Расчёт!D16=0,0,IF(AND(ISNUMBER($E$3),$E$3>0,$E$3<=Расчёт!D16),ROUND(D16*$E$3/Расчёт!D16,2),"")))) | H16: 40 | I16: =IF(COUNTA(B16:C16,F16,J16)=0,"",$I$3) | K16: =IF(NOT(ISNUMBER(Расчёт!E16)),"",IF(OR(Расчёт!E16<0,Расчёт!E16>10),"",IF(Расчёт!E16=0,0,IF(AND(ISNUMBER($I$3),$I$3>=Расчёт!E16,$I$3<=10,$I$3>0),ROUND(H16*Расчёт!E16/$I$3,2),"")))) | L16: =IF(COUNT(G16,K16)=2,ROUND(G16+K16,2),"") | M16: =IF(Расчёт!W16="","",Расчёт!W16) | N16: Используйте одинаковые лучшие значения во всех файлах этой группы школы.
A17: 14 | D17: 40 | E17: =IF(COUNTA(B17:C17,F17,J17)=0,"",$E$3) | G17: =IF(NOT(ISNUMBER(Расчёт!D17)),"",IF(Расчёт!D17<0,"",IF(Расчёт!D17=0,0,IF(AND(ISNUMBER($E$3),$E$3>0,$E$3<=Расчёт!D17),ROUND(D17*$E$3/Расчёт!D17,2),"")))) | H17: 40 | I17: =IF(COUNTA(B17:C17,F17,J17)=0,"",$I$3) | K17: =IF(NOT(ISNUMBER(Расчёт!E17)),"",IF(OR(Расчёт!E17<0,Расчёт!E17>10),"",IF(Расчёт!E17=0,0,IF(AND(ISNUMBER($I$3),$I$3>=Расчёт!E17,$I$3<=10,$I$3>0),ROUND(H17*Расчёт!E17/$I$3,2),"")))) | L17: =IF(COUNT(G17,K17)=2,ROUND(G17+K17,2),"") | M17: =IF(Расчёт!W17="","",Расчёт!W17) | N17: Перед загрузкой у каждой заполненной строки должно быть «OK».
A18: 15 | D18: 40 | E18: =IF(COUNTA(B18:C18,F18,J18)=0,"",$E$3) | G18: =IF(NOT(ISNUMBER(Расчёт!D18)),"",IF(Расчёт!D18<0,"",IF(Расчёт!D18=0,0,IF(AND(ISNUMBER($E$3),$E$3>0,$E$3<=Расчёт!D18),ROUND(D18*$E$3/Расчёт!D18,2),"")))) | H18: 40 | I18: =IF(COUNTA(B18:C18,F18,J18)=0,"",$I$3) | K18: =IF(NOT(ISNUMBER(Расчёт!E18)),"",IF(OR(Расчёт!E18<0,Расчёт!E18>10),"",IF(Расчёт!E18=0,0,IF(AND(ISNUMBER($I$3),$I$3>=Расчёт!E18,$I$3<=10,$I$3>0),ROUND(H18*Расчёт!E18/$I$3,2),"")))) | L18: =IF(COUNT(G18,K18)=2,ROUND(G18+K18,2),"") | M18: =IF(Расчёт!W18="","",Расчёт!W18) | N18: Сохраните файл с пересчётом формул и загрузите его целиком в РБДО.
... A25: 22 | D25: 40 | E25: =IF(COUNTA(B25:C25,F25,J25)=0,"",$E$3) | G25: =IF(NOT(ISNUMBER(Расчёт!D25)),"",IF(Расчёт!D25<0,"",IF(Расчёт!D25=0,0,IF(AND(ISNUMBER($E$3),$E$3>0,$E$3<=Расчёт!D25),ROUND(D25*$E$3/Расчёт!D25,2),"")))) | H25: 40 | I25: =IF(COUNTA(B25:C25,F25,J25)=0,"",$I$3) | K25: =IF(NOT(ISNUMBER(Расчёт!E25)),"",IF(OR(Расчёт!E25<0,Расчёт!E25>10),"",IF(Расчёт!E25=0,0,IF(AND(ISNUMBER($I$3),$I$3>=Расчёт!E25,$I$3<=10,$I$3>0),ROUND(H25*Расчёт!E25/$I$3,2),"")))) | L25: =IF(COUNT(G25,K25)=2,ROUND(G25+K25,2),"") | M25: =IF(Расчёт!W25="","",Расчёт!W25) | N25: Буквы и единицы измерения не допускаются. Лист «Расчёт» не редактируйте.
A26: 23 | D26: 40 | E26: =IF(COUNTA(B26:C26,F26,J26)=0,"",$E$3) | G26: =IF(NOT(ISNUMBER(Расчёт!D26)),"",IF(Расчёт!D26<0,"",IF(Расчёт!D26=0,0,IF(AND(ISNUMBER($E$3),$E$3>0,$E$3<=Расчёт!D26),ROUND(D26*$E$3/Расчёт!D26,2),"")))) | H26: 40 | I26: =IF(COUNTA(B26:C26,F26,J26)=0,"",$I$3) | K26: =IF(NOT(ISNUMBER(Расчёт!E26)),"",IF(OR(Расчёт!E26<0,Расчёт!E26>10),"",IF(Расчёт!E26=0,0,IF(AND(ISNUMBER($I$3),$I$3>=Расчёт!E26,$I$3<=10,$I$3>0),ROUND(H26*Расчёт!E26/$I$3,2),"")))) | L26: =IF(COUNT(G26,K26)=2,ROUND(G26+K26,2),"") | M26: =IF(Расчёт!W26="","",Расчёт!W26)
A27: 24 | D27: 40 | E27: =IF(COUNTA(B27:C27,F27,J27)=0,"",$E$3) | G27: =IF(NOT(ISNUMBER(Расчёт!D27)),"",IF(Расчёт!D27<0,"",IF(Расчёт!D27=0,0,IF(AND(ISNUMBER($E$3),$E$3>0,$E$3<=Расчёт!D27),ROUND(D27*$E$3/Расчёт!D27,2),"")))) | H27: 40 | I27: =IF(COUNTA(B27:C27,F27,J27)=0,"",$I$3) | K27: =IF(NOT(ISNUMBER(Расчёт!E27)),"",IF(OR(Расчёт!E27<0,Расчёт!E27>10),"",IF(Расчёт!E27=0,0,IF(AND(ISNUMBER($I$3),$I$3>=Расчёт!E27,$I$3<=10,$I$3>0),ROUND(H27*Расчёт!E27/$I$3,2),"")))) | L27: =IF(COUNT(G27,K27)=2,ROUND(G27+K27,2),"") | M27: =IF(Расчёт!W27="","",Расчёт!W27)
A28: 25 | D28: 40 | E28: =IF(COUNTA(B28:C28,F28,J28)=0,"",$E$3) | G28: =IF(NOT(ISNUMBER(Расчёт!D28)),"",IF(Расчёт!D28<0,"",IF(Расчёт!D28=0,0,IF(AND(ISNUMBER($E$3),$E$3>0,$E$3<=Расчёт!D28),ROUND(D28*$E$3/Расчёт!D28,2),"")))) | H28: 40 | I28: =IF(COUNTA(B28:C28,F28,J28)=0,"",$I$3) | K28: =IF(NOT(ISNUMBER(Расчёт!E28)),"",IF(OR(Расчёт!E28<0,Расчёт!E28>10),"",IF(Расчёт!E28=0,0,IF(AND(ISNUMBER($I$3),$I$3>=Расчёт!E28,$I$3<=10,$I$3>0),ROUND(H28*Расчёт!E28/$I$3,2),"")))) | L28: =IF(COUNT(G28,K28)=2,ROUND(G28+K28,2),"") | M28: =IF(Расчёт!W28="","",Расчёт!W28)
A29: 26 | D29: 40 | E29: =IF(COUNTA(B29:C29,F29,J29)=0,"",$E$3) | G29: =IF(NOT(ISNUMBER(Расчёт!D29)),"",IF(Расчёт!D29<0,"",IF(Расчёт!D29=0,0,IF(AND(ISNUMBER($E$3),$E$3>0,$E$3<=Расчёт!D29),ROUND(D29*$E$3/Расчёт!D29,2),"")))) | H29: 40 | I29: =IF(COUNTA(B29:C29,F29,J29)=0,"",$I$3) | K29: =IF(NOT(ISNUMBER(Расчёт!E29)),"",IF(OR(Расчёт!E29<0,Расчёт!E29>10),"",IF(Расчёт!E29=0,0,IF(AND(ISNUMBER($I$3),$I$3>=Расчёт!E29,$I$3<=10,$I$3>0),ROUND(H29*Расчёт!E29/$I$3,2),"")))) | L29: =IF(COUNT(G29,K29)=2,ROUND(G29+K29,2),"") | M29: =IF(Расчёт!W29="","",Расчёт!W29)
A30: 27 | D30: 40 | E30: =IF(COUNTA(B30:C30,F30,J30)=0,"",$E$3) | G30: =IF(NOT(ISNUMBER(Расчёт!D30)),"",IF(Расчёт!D30<0,"",IF(Расчёт!D30=0,0,IF(AND(ISNUMBER($E$3),$E$3>0,$E$3<=Расчёт!D30),ROUND(D30*$E$3/Расчёт!D30,2),"")))) | H30: 40 | I30: =IF(COUNTA(B30:C30,F30,J30)=0,"",$I$3) | K30: =IF(NOT(ISNUMBER(Расчёт!E30)),"",IF(OR(Расчёт!E30<0,Расчёт!E30>10),"",IF(Расчёт!E30=0,0,IF(AND(ISNUMBER($I$3),$I$3>=Расчёт!E30,$I$3<=10,$I$3>0),ROUND(H30*Расчёт!E30/$I$3,2),"")))) | L30: =IF(COUNT(G30,K30)=2,ROUND(G30+K30,2),"") | M30: =IF(Расчёт!W30="","",Расчёт!W30)
A31: 28 | D31: 40 | E31: =IF(COUNTA(B31:C31,F31,J31)=0,"",$E$3) | G31: =IF(NOT(ISNUMBER(Расчёт!D31)),"",IF(Расчёт!D31<0,"",IF(Расчёт!D31=0,0,IF(AND(ISNUMBER($E$3),$E$3>0,$E$3<=Расчёт!D31),ROUND(D31*$E$3/Расчёт!D31,2),"")))) | H31: 40 | I31: =IF(COUNTA(B31:C31,F31,J31)=0,"",$I$3) | K31: =IF(NOT(ISNUMBER(Расчёт!E31)),"",IF(OR(Расчёт!E31<0,Расчёт!E31>10),"",IF(Расчёт!E31=0,0,IF(AND(ISNUMBER($I$3),$I$3>=Расчёт!E31,$I$3<=10,$I$3>0),ROUND(H31*Расчёт!E31/$I$3,2),"")))) | L31: =IF(COUNT(G31,K31)=2,ROUND(G31+K31,2),"") | M31: =IF(Расчёт!W31="","",Расчёт!W31)
A32: 29 | D32: 40 | E32: =IF(COUNTA(B32:C32,F32,J32)=0,"",$E$3) | G32: =IF(NOT(ISNUMBER(Расчёт!D32)),"",IF(Расчёт!D32<0,"",IF(Расчёт!D32=0,0,IF(AND(ISNUMBER($E$3),$E$3>0,$E$3<=Расчёт!D32),ROUND(D32*$E$3/Расчёт!D32,2),"")))) | H32: 40 | I32: =IF(COUNTA(B32:C32,F32,J32)=0,"",$I$3) | K32: =IF(NOT(ISNUMBER(Расчёт!E32)),"",IF(OR(Расчёт!E32<0,Расчёт!E32>10),"",IF(Расчёт!E32=0,0,IF(AND(ISNUMBER($I$3),$I$3>=Расчёт!E32,$I$3<=10,$I$3>0),ROUND(H32*Расчёт!E32/$I$3,2),"")))) | L32: =IF(COUNT(G32,K32)=2,ROUND(G32+K32,2),"") | M32: =IF(Расчёт!W32="","",Расчёт!W32)
A33: 30 | D33: 40 | E33: =IF(COUNTA(B33:C33,F33,J33)=0,"",$E$3) | G33: =IF(NOT(ISNUMBER(Расчёт!D33)),"",IF(Расчёт!D33<0,"",IF(Расчёт!D33=0,0,IF(AND(ISNUMBER($E$3),$E$3>0,$E$3<=Расчёт!D33),ROUND(D33*$E$3/Расчёт!D33,2),"")))) | H33: 40 | I33: =IF(COUNTA(B33:C33,F33,J33)=0,"",$I$3) | K33: =IF(NOT(ISNUMBER(Расчёт!E33)),"",IF(OR(Расчёт!E33<0,Расчёт!E33>10),"",IF(Расчёт!E33=0,0,IF(AND(ISNUMBER($I$3),$I$3>=Расчёт!E33,$I$3<=10,$I$3>0),ROUND(H33*Расчёт!E33/$I$3,2),"")))) | L33: =IF(COUNT(G33,K33)=2,ROUND(G33+K33,2),"") | M33: =IF(Расчёт!W33="","",Расчёт!W33)
A34: 31 | D34: 40 | E34: =IF(COUNTA(B34:C34,F34,J34)=0,"",$E$3) | G34: =IF(NOT(ISNUMBER(Расчёт!D34)),"",IF(Расчёт!D34<0,"",IF(Расчёт!D34=0,0,IF(AND(ISNUMBER($E$3),$E$3>0,$E$3<=Расчёт!D34),ROUND(D34*$E$3/Расчёт!D34,2),"")))) | H34: 40 | I34: =IF(COUNTA(B34:C34,F34,J34)=0,"",$I$3) | K34: =IF(NOT(ISNUMBER(Расчёт!E34)),"",IF(OR(Расчёт!E34<0,Расчёт!E34>10),"",IF(Расчёт!E34=0,0,IF(AND(ISNUMBER($I$3),$I$3>=Расчёт!E34,$I$3<=10,$I$3>0),ROUND(H34*Расчёт!E34/$I$3,2),"")))) | L34: =IF(COUNT(G34,K34)=2,ROUND(G34+K34,2),"") | M34: =IF(Расчёт!W34="","",Расчёт!W34)
A35: 32 | D35: 40 | E35: =IF(COUNTA(B35:C35,F35,J35)=0,"",$E$3) | G35: =IF(NOT(ISNUMBER(Расчёт!D35)),"",IF(Расчёт!D35<0,"",IF(Расчёт!D35=0,0,IF(AND(ISNUMBER($E$3),$E$3>0,$E$3<=Расчёт!D35),ROUND(D35*$E$3/Расчёт!D35,2),"")))) | H35: 40 | I35: =IF(COUNTA(B35:C35,F35,J35)=0,"",$I$3) | K35: =IF(NOT(ISNUMBER(Расчёт!E35)),"",IF(OR(Расчёт!E35<0,Расчёт!E35>10),"",IF(Расчёт!E35=0,0,IF(AND(ISNUMBER($I$3),$I$3>=Расчёт!E35,$I$3<=10,$I$3>0),ROUND(H35*Расчёт!E35/$I$3,2),"")))) | L35: =IF(COUNT(G35,K35)=2,ROUND(G35+K35,2),"") | M35: =IF(Расчёт!W35="","",Расчёт!W35)
A36: 33 | D36: 40 | E36: =IF(COUNTA(B36:C36,F36,J36)=0,"",$E$3) | G36: =IF(NOT(ISNUMBER(Расчёт!D36)),"",IF(Расчёт!D36<0,"",IF(Расчёт!D36=0,0,IF(AND(ISNUMBER($E$3),$E$3>0,$E$3<=Расчёт!D36),ROUND(D36*$E$3/Расчёт!D36,2),"")))) | H36: 40 | I36: =IF(COUNTA(B36:C36,F36,J36)=0,"",$I$3) | K36: =IF(NOT(ISNUMBER(Расчёт!E36)),"",IF(OR(Расчёт!E36<0,Расчёт!E36>10),"",IF(Расчёт!E36=0,0,IF(AND(ISNUMBER($I$3),$I$3>=Расчёт!E36,$I$3<=10,$I$3>0),ROUND(H36*Расчёт!E36/$I$3,2),"")))) | L36: =IF(COUNT(G36,K36)=2,ROUND(G36+K36,2),"") | M36: =IF(Расчёт!W36="","",Расчёт!W36)
A37: 34 | D37: 40 | E37: =IF(COUNTA(B37:C37,F37,J37)=0,"",$E$3) | G37: =IF(NOT(ISNUMBER(Расчёт!D37)),"",IF(Расчёт!D37<0,"",IF(Расчёт!D37=0,0,IF(AND(ISNUMBER($E$3),$E$3>0,$E$3<=Расчёт!D37),ROUND(D37*$E$3/Расчёт!D37,2),"")))) | H37: 40 | I37: =IF(COUNTA(B37:C37,F37,J37)=0,"",$I$3) | K37: =IF(NOT(ISNUMBER(Расчёт!E37)),"",IF(OR(Расчёт!E37<0,Расчёт!E37>10),"",IF(Расчёт!E37=0,0,IF(AND(ISNUMBER($I$3),$I$3>=Расчёт!E37,$I$3<=10,$I$3>0),ROUND(H37*Расчёт!E37/$I$3,2),"")))) | L37: =IF(COUNT(G37,K37)=2,ROUND(G37+K37,2),"") | M37: =IF(Расчёт!W37="","",Расчёт!W37)
... A103: 100 | D103: 40 | E103: =IF(COUNTA(B103:C103,F103,J103)=0,"",$E$3) | G103: =IF(NOT(ISNUMBER(Расчёт!D103)),"",IF(Расчёт!D103<0,"",IF(Расчёт!D103=0,0,IF(AND(ISNUMBER($E$3),$E$3>0,$E$3<=Расчёт!D103),ROUND(D103*$E$3/Расчёт!D103,2),"")))) | H103: 40 | I103: =IF(COUNTA(B103:C103,F103,J103)=0,"",$I$3) | K103: =IF(NOT(ISNUMBER(Расчёт!E103)),"",IF(OR(Расчёт!E103<0,Расчёт!E103>10),"",IF(Расчёт!E103=0,0,IF(AND(ISNUMBER($I$3),$I$3>=Расчёт!E103,$I$3<=10,$I$3>0),ROUND(H103*Расчёт!E103/$I$3,2),"")))) | L103: =IF(COUNT(G103,K103)=2,ROUND(G103+K103,2),"") | M103: =IF(Расчёт!W103="","",Расчёт!W103)

Sheet Расчёт
A1: Расчёт из введённых результатов. Этот лист заполняется автоматически. | B1: Расчёт из введённых результатов. Этот лист заполняется автоматически. | C1: Расчёт из введённых результатов. Этот лист заполняется автоматически. | D1: Расчёт из введённых результатов. Этот лист заполняется автоматически. | E1: Расчёт из введённых результатов. Этот лист заполняется автоматически. | F1: Расчёт из введённых результатов. Этот лист заполняется автоматически. | G1: Расчёт из введённых результатов. Этот лист заполняется автоматически. | H1: Расчёт из введённых результатов. Этот лист заполняется автоматически. | I1: Расчёт из введённых результатов. Этот лист заполняется автоматически.
A3: Строка | B3: Время ввода | C3: Оценка ввода | D3: Время числом | E3: Оценка числом | F3: Положительное время | H3: Общие лучшие | I3: Число
A4: 1 | B4: =IF(ISERROR('Рабочий протокол'!F4),"ТЕКСТ",SUBSTITUTE(TRIM(SUBSTITUTE('Рабочий протокол'!F4&"",CHAR(160)," ")),",",".")) -> 51.1 | C4: =IF(ISERROR('Рабочий протокол'!J4),"ТЕКСТ",SUBSTITUTE(TRIM(SUBSTITUTE('Рабочий протокол'!J4&"",CHAR(160)," ")),",",".")) -> 5 | D4: =IF(B4="","",IF(ISNUMBER('Рабочий протокол'!F4),'Рабочий протокол'!F4,IF(AND(OR(K4="",K4="."),LEN(SUBSTITUTE(B4,".",""))>0,LEN(B4)<=15),VALUE(SUBSTITUTE(B4,".",""))/10^IF(ISNUMBER(FIND(".",B4)),LEN(B4)-FIND(".",B4),0),"ТЕКСТ"))) -> 51.1 | E4: =IF(C4="","",IF(ISNUMBER('Рабочий протокол'!J4),'Рабочий протокол'!J4,IF(AND(OR(M4="",M4="."),LEN(SUBSTITUTE(C4,".",""))>0,LEN(C4)<=15),VALUE(SUBSTITUTE(C4,".",""))/10^IF(ISNUMBER(FIND(".",C4)),LEN(C4)-FIND(".",C4),0),"ТЕКСТ"))) -> 5 | F4: =IF(ISNUMBER(D4),IF(D4>0,D4,""),"") -> 51.1 | H4: =IF(ISERROR('Рабочий протокол'!S4),"ТЕКСТ",SUBSTITUTE(TRIM(SUBSTITUTE('Рабочий протокол'!S4&"",CHAR(160)," ")),",",".")) | I4: =IF(H4="","",IF(ISNUMBER('Рабочий протокол'!S4),'Рабочий протокол'!S4,IF(AND(OR(O4="",O4="."),LEN(SUBSTITUTE(H4,".",""))>0,LEN(H4)<=15),VALUE(SUBSTITUTE(H4,".",""))/10^IF(ISNUMBER(FIND(".",H4)),LEN(H4)-FIND(".",H4),0),"ТЕКСТ"))) | J4: =SUBSTITUTE(SUBSTITUTE(SUBSTITUTE(SUBSTITUTE(SUBSTITUTE(B4,"0",""),"1",""),"2",""),"3",""),"4","") -> 5. | K4: =SUBSTITUTE(SUBSTITUTE(SUBSTITUTE(SUBSTITUTE(SUBSTITUTE(J4,"5",""),"6",""),"7",""),"8",""),"9","") -> . | L4: =SUBSTITUTE(SUBSTITUTE(SUBSTITUTE(SUBSTITUTE(SUBSTITUTE(C4,"0",""),"1",""),"2",""),"3",""),"4","") -> 5 | M4: =SUBSTITUTE(SUBSTITUTE(SUBSTITUTE(SUBSTITUTE(SUBSTITUTE(L4,"5",""),"6",""),"7",""),"8",""),"9","") | N4: =SUBSTITUTE(SUBSTITUTE(SUBSTITUTE(SUBSTITUTE(SUBSTITUTE(H4,"0",""),"1",""),"2",""),"3",""),"4","") | O4: =SUBSTITUTE(SUBSTITUTE(SUBSTITUTE(SUBSTITUTE(SUBSTITUTE(N4,"5",""),"6",""),"7",""),"8",""),"9","") | P4: =AND(ISNUMBER(FIND(MID("x"&'Рабочий протокол'!C4,2,1),"0123456789")),ISNUMBER(FIND(MID("x"&'Рабочий протокол'!C4,3,1),"0123456789")),ISNUMBER(FIND(MID("x"&'Рабочий протокол'!C4,4,1),"0123456789")),ISNUMBER(FIND(MID("x"&'Рабочий протокол'!C4,5,1),"0123456789")),ISNUMBER(FIND(MID("x"&'Рабочий протокол'!C4,6,1),"0123456789"))) -> TRUE | Q4: =AND(ISNUMBER(FIND(MID("x"&'Рабочий протокол'!C4,7,1),"0123456789")),ISNUMBER(FIND(MID("x"&'Рабочий протокол'!C4,8,1),"0123456789")),ISNUMBER(FIND(MID("x"&'Рабочий протокол'!C4,9,1),"0123456789")),ISNUMBER(FIND(MID("x"&'Рабочий протокол'!C4,10,1),"0123456789")),ISNUMBER(FIND(MID("x"&'Рабочий протокол'!C4,11,1),"0123456789"))) -> TRUE | R4: =AND(ISNUMBER(FIND(MID("x"&'Рабочий протокол'!C4,12,1),"0123456789")),ISNUMBER(FIND(MID("x"&'Рабочий протокол'!C4,13,1),"0123456789")),ISNUMBER(FIND(MID("x"&'Рабочий протокол'!C4,14,1),"0123456789"))) -> TRUE | S4: =IF('Рабочий протокол'!C4="","НЕТ КОДА",IF(NOT(AND(LEN('Рабочий протокол'!C4&"")=13,P4,Q4,R4)),"КОД: 13 ЦИФР",IF(COUNTIF('Рабочий протокол'!C$4:C$103,'Рабочий протокол'!C4)>1,"ПОВТОР КОДА",""))) | T4: =IF(D4="","ВНЕСИТЕ ВРЕМЯ",IF(NOT(ISNUMBER(D4)),"ВРЕМЯ: ВВЕДИТЕ ЧИСЛО",IF(OR(D4<0,ROUND(D4,2)<>D4),"ВРЕМЯ: ≥0, ДО 2 ЗНАКОВ",""))) | U4: =IF(E4="","ВНЕСИТЕ ГИМНАСТИКУ",IF(NOT(ISNUMBER(E4)),"ГИМНАСТИКА: ВВЕДИТЕ ЧИСЛО",IF(OR(E4<0,E4>10,ROUND(E4,2)<>E4),"ГИМНАСТИКА: 0–10, ДО 2 ЗНАКОВ",""))) | V4: =IF(OR(COUNT('Рабочий протокол'!$E$3,'Рабочий протокол'!$I$3)<>2,'Рабочий протокол'!$E$3<0,'Рабочий протокол'!$I$3<MAX(E$4:E$103),'Рабочий протокол'!$I$3>10,AND(COUNT(F$4:F$103)>0,OR('Рабочий протокол'!$E$3<=0,'Рабочий протокол'!$E$3>MIN(F$4:F$103))),AND(OR(I$4<>"",I$5<>""),COUNT(I$4:I$5)<>2)),"ПРОВЕРЬТЕ ЛУЧШИЕ","OK") -> OK | W4: =IF(COUNTA('Рабочий протокол'!B4:C4,'Рабочий протокол'!F4,'Рабочий протокол'!J4)=0,"",IF(S4<>"",S4,IF(T4<>"",T4,IF(U4<>"",U4,V4)))) -> OK
A5: 2 | B5: =IF(ISERROR('Рабочий протокол'!F5),"ТЕКСТ",SUBSTITUTE(TRIM(SUBSTITUTE('Рабочий протокол'!F5&"",CHAR(160)," ")),",",".")) | C5: =IF(ISERROR('Рабочий протокол'!J5),"ТЕКСТ",SUBSTITUTE(TRIM(SUBSTITUTE('Рабочий протокол'!J5&"",CHAR(160)," ")),",",".")) | D5: =IF(B5="","",IF(ISNUMBER('Рабочий протокол'!F5),'Рабочий протокол'!F5,IF(AND(OR(K5="",K5="."),LEN(SUBSTITUTE(B5,".",""))>0,LEN(B5)<=15),VALUE(SUBSTITUTE(B5,".",""))/10^IF(ISNUMBER(FIND(".",B5)),LEN(B5)-FIND(".",B5),0),"ТЕКСТ"))) | E5: =IF(C5="","",IF(ISNUMBER('Рабочий протокол'!J5),'Рабочий протокол'!J5,IF(AND(OR(M5="",M5="."),LEN(SUBSTITUTE(C5,".",""))>0,LEN(C5)<=15),VALUE(SUBSTITUTE(C5,".",""))/10^IF(ISNUMBER(FIND(".",C5)),LEN(C5)-FIND(".",C5),0),"ТЕКСТ"))) | F5: =IF(ISNUMBER(D5),IF(D5>0,D5,""),"") | H5: =IF(ISERROR('Рабочий протокол'!S5),"ТЕКСТ",SUBSTITUTE(TRIM(SUBSTITUTE('Рабочий протокол'!S5&"",CHAR(160)," ")),",",".")) | I5: =IF(H5="","",IF(ISNUMBER('Рабочий протокол'!S5),'Рабочий протокол'!S5,IF(AND(OR(O5="",O5="."),LEN(SUBSTITUTE(H5,".",""))>0,LEN(H5)<=15),VALUE(SUBSTITUTE(H5,".",""))/10^IF(ISNUMBER(FIND(".",H5)),LEN(H5)-FIND(".",H5),0),"ТЕКСТ"))) | J5: =SUBSTITUTE(SUBSTITUTE(SUBSTITUTE(SUBSTITUTE(SUBSTITUTE(B5,"0",""),"1",""),"2",""),"3",""),"4","") | K5: =SUBSTITUTE(SUBSTITUTE(SUBSTITUTE(SUBSTITUTE(SUBSTITUTE(J5,"5",""),"6",""),"7",""),"8",""),"9","") | L5: =SUBSTITUTE(SUBSTITUTE(SUBSTITUTE(SUBSTITUTE(SUBSTITUTE(C5,"0",""),"1",""),"2",""),"3",""),"4","") | M5: =SUBSTITUTE(SUBSTITUTE(SUBSTITUTE(SUBSTITUTE(SUBSTITUTE(L5,"5",""),"6",""),"7",""),"8",""),"9","") | N5: =SUBSTITUTE(SUBSTITUTE(SUBSTITUTE(SUBSTITUTE(SUBSTITUTE(H5,"0",""),"1",""),"2",""),"3",""),"4","") | O5: =SUBSTITUTE(SUBSTITUTE(SUBSTITUTE(SUBSTITUTE(SUBSTITUTE(N5,"5",""),"6",""),"7",""),"8",""),"9","") | P5: =AND(ISNUMBER(FIND(MID("x"&'Рабочий протокол'!C5,2,1),"0123456789")),ISNUMBER(FIND(MID("x"&'Рабочий протокол'!C5,3,1),"0123456789")),ISNUMBER(FIND(MID("x"&'Рабочий протокол'!C5,4,1),"0123456789")),ISNUMBER(FIND(MID("x"&'Рабочий протокол'!C5,5,1),"0123456789")),ISNUMBER(FIND(MID("x"&'Рабочий протокол'!C5,6,1),"0123456789"))) -> TRUE | Q5: =AND(ISNUMBER(FIND(MID("x"&'Рабочий протокол'!C5,7,1),"0123456789")),ISNUMBER(FIND(MID("x"&'Рабочий протокол'!C5,8,1),"0123456789")),ISNUMBER(FIND(MID("x"&'Рабочий протокол'!C5,9,1),"0123456789")),ISNUMBER(FIND(MID("x"&'Рабочий протокол'!C5,10,1),"0123456789")),ISNUMBER(FIND(MID("x"&'Рабочий протокол'!C5,11,1),"0123456789"))) -> TRUE | R5: =AND(ISNUMBER(FIND(MID("x"&'Рабочий протокол'!C5,12,1),"0123456789")),ISNUMBER(FIND(MID("x"&'Рабочий протокол'!C5,13,1),"0123456789")),ISNUMBER(FIND(MID("x"&'Рабочий протокол'!C5,14,1),"0123456789"))) -> TRUE | S5: =IF('Рабочий протокол'!C5="","НЕТ КОДА",IF(NOT(AND(LEN('Рабочий протокол'!C5&"")=13,P5,Q5,R5)),"КОД: 13 ЦИФР",IF(COUNTIF('Рабочий протокол'!C$4:C$103,'Рабочий протокол'!C5)>1,"ПОВТОР КОДА",""))) -> НЕТ КОДА | T5: =IF(D5="","ВНЕСИТЕ ВРЕМЯ",IF(NOT(ISNUMBER(D5)),"ВРЕМЯ: ВВЕДИТЕ ЧИСЛО",IF(OR(D5<0,ROUND(D5,2)<>D5),"ВРЕМЯ: ≥0, ДО 2 ЗНАКОВ",""))) -> ВНЕСИТЕ ВРЕМЯ | U5: =IF(E5="","ВНЕСИТЕ ГИМНАСТИКУ",IF(NOT(ISNUMBER(E5)),"ГИМНАСТИКА: ВВЕДИТЕ ЧИСЛО",IF(OR(E5<0,E5>10,ROUND(E5,2)<>E5),"ГИМНАСТИКА: 0–10, ДО 2 ЗНАКОВ",""))) -> ВНЕСИТЕ ГИМНАСТИКУ | V5: =IF(OR(COUNT('Рабочий протокол'!$E$3,'Рабочий протокол'!$I$3)<>2,'Рабочий протокол'!$E$3<0,'Рабочий протокол'!$I$3<MAX(E$4:E$103),'Рабочий протокол'!$I$3>10,AND(COUNT(F$4:F$103)>0,OR('Рабочий протокол'!$E$3<=0,'Рабочий протокол'!$E$3>MIN(F$4:F$103))),AND(OR(I$4<>"",I$5<>""),COUNT(I$4:I$5)<>2)),"ПРОВЕРЬТЕ ЛУЧШИЕ","OK") -> OK | W5: =IF(COUNTA('Рабочий протокол'!B5:C5,'Рабочий протокол'!F5,'Рабочий протокол'!J5)=0,"",IF(S5<>"",S5,IF(T5<>"",T5,IF(U5<>"",U5,V5))))
A6: 3 | B6: =IF(ISERROR('Рабочий протокол'!F6),"ТЕКСТ",SUBSTITUTE(TRIM(SUBSTITUTE('Рабочий протокол'!F6&"",CHAR(160)," ")),",",".")) | C6: =IF(ISERROR('Рабочий протокол'!J6),"ТЕКСТ",SUBSTITUTE(TRIM(SUBSTITUTE('Рабочий протокол'!J6&"",CHAR(160)," ")),",",".")) | D6: =IF(B6="","",IF(ISNUMBER('Рабочий протокол'!F6),'Рабочий протокол'!F6,IF(AND(OR(K6="",K6="."),LEN(SUBSTITUTE(B6,".",""))>0,LEN(B6)<=15),VALUE(SUBSTITUTE(B6,".",""))/10^IF(ISNUMBER(FIND(".",B6)),LEN(B6)-FIND(".",B6),0),"ТЕКСТ"))) | E6: =IF(C6="","",IF(ISNUMBER('Рабочий протокол'!J6),'Рабочий протокол'!J6,IF(AND(OR(M6="",M6="."),LEN(SUBSTITUTE(C6,".",""))>0,LEN(C6)<=15),VALUE(SUBSTITUTE(C6,".",""))/10^IF(ISNUMBER(FIND(".",C6)),LEN(C6)-FIND(".",C6),0),"ТЕКСТ"))) | F6: =IF(ISNUMBER(D6),IF(D6>0,D6,""),"") | J6: =SUBSTITUTE(SUBSTITUTE(SUBSTITUTE(SUBSTITUTE(SUBSTITUTE(B6,"0",""),"1",""),"2",""),"3",""),"4","") | K6: =SUBSTITUTE(SUBSTITUTE(SUBSTITUTE(SUBSTITUTE(SUBSTITUTE(J6,"5",""),"6",""),"7",""),"8",""),"9","") | L6: =SUBSTITUTE(SUBSTITUTE(SUBSTITUTE(SUBSTITUTE(SUBSTITUTE(C6,"0",""),"1",""),"2",""),"3",""),"4","") | M6: =SUBSTITUTE(SUBSTITUTE(SUBSTITUTE(SUBSTITUTE(SUBSTITUTE(L6,"5",""),"6",""),"7",""),"8",""),"9","") | P6: =AND(ISNUMBER(FIND(MID("x"&'Рабочий протокол'!C6,2,1),"0123456789")),ISNUMBER(FIND(MID("x"&'Рабочий протокол'!C6,3,1),"0123456789")),ISNUMBER(FIND(MID("x"&'Рабочий протокол'!C6,4,1),"0123456789")),ISNUMBER(FIND(MID("x"&'Рабочий протокол'!C6,5,1),"0123456789")),ISNUMBER(FIND(MID("x"&'Рабочий протокол'!C6,6,1),"0123456789"))) -> TRUE | Q6: =AND(ISNUMBER(FIND(MID("x"&'Рабочий протокол'!C6,7,1),"0123456789")),ISNUMBER(FIND(MID("x"&'Рабочий протокол'!C6,8,1),"0123456789")),ISNUMBER(FIND(MID("x"&'Рабочий протокол'!C6,9,1),"0123456789")),ISNUMBER(FIND(MID("x"&'Рабочий протокол'!C6,10,1),"0123456789")),ISNUMBER(FIND(MID("x"&'Рабочий протокол'!C6,11,1),"0123456789"))) -> TRUE | R6: =AND(ISNUMBER(FIND(MID("x"&'Рабочий протокол'!C6,12,1),"0123456789")),ISNUMBER(FIND(MID("x"&'Рабочий протокол'!C6,13,1),"0123456789")),ISNUMBER(FIND(MID("x"&'Рабочий протокол'!C6,14,1),"0123456789"))) -> TRUE | S6: =IF('Рабочий протокол'!C6="","НЕТ КОДА",IF(NOT(AND(LEN('Рабочий протокол'!C6&"")=13,P6,Q6,R6)),"КОД: 13 ЦИФР",IF(COUNTIF('Рабочий протокол'!C$4:C$103,'Рабочий протокол'!C6)>1,"ПОВТОР КОДА",""))) -> НЕТ КОДА | T6: =IF(D6="","ВНЕСИТЕ ВРЕМЯ",IF(NOT(ISNUMBER(D6)),"ВРЕМЯ: ВВЕДИТЕ ЧИСЛО",IF(OR(D6<0,ROUND(D6,2)<>D6),"ВРЕМЯ: ≥0, ДО 2 ЗНАКОВ",""))) -> ВНЕСИТЕ ВРЕМЯ | U6: =IF(E6="","ВНЕСИТЕ ГИМНАСТИКУ",IF(NOT(ISNUMBER(E6)),"ГИМНАСТИКА: ВВЕДИТЕ ЧИСЛО",IF(OR(E6<0,E6>10,ROUND(E6,2)<>E6),"ГИМНАСТИКА: 0–10, ДО 2 ЗНАКОВ",""))) -> ВНЕСИТЕ ГИМНАСТИКУ | V6: =IF(OR(COUNT('Рабочий протокол'!$E$3,'Рабочий протокол'!$I$3)<>2,'Рабочий протокол'!$E$3<0,'Рабочий протокол'!$I$3<MAX(E$4:E$103),'Рабочий протокол'!$I$3>10,AND(COUNT(F$4:F$103)>0,OR('Рабочий протокол'!$E$3<=0,'Рабочий протокол'!$E$3>MIN(F$4:F$103))),AND(OR(I$4<>"",I$5<>""),COUNT(I$4:I$5)<>2)),"ПРОВЕРЬТЕ ЛУЧШИЕ","OK") -> OK | W6: =IF(COUNTA('Рабочий протокол'!B6:C6,'Рабочий протокол'!F6,'Рабочий протокол'!J6)=0,"",IF(S6<>"",S6,IF(T6<>"",T6,IF(U6<>"",U6,V6))))
A7: 4 | B7: =IF(ISERROR('Рабочий протокол'!F7),"ТЕКСТ",SUBSTITUTE(TRIM(SUBSTITUTE('Рабочий протокол'!F7&"",CHAR(160)," ")),",",".")) | C7: =IF(ISERROR('Рабочий протокол'!J7),"ТЕКСТ",SUBSTITUTE(TRIM(SUBSTITUTE('Рабочий протокол'!J7&"",CHAR(160)," ")),",",".")) | D7: =IF(B7="","",IF(ISNUMBER('Рабочий протокол'!F7),'Рабочий протокол'!F7,IF(AND(OR(K7="",K7="."),LEN(SUBSTITUTE(B7,".",""))>0,LEN(B7)<=15),VALUE(SUBSTITUTE(B7,".",""))/10^IF(ISNUMBER(FIND(".",B7)),LEN(B7)-FIND(".",B7),0),"ТЕКСТ"))) | E7: =IF(C7="","",IF(ISNUMBER('Рабочий протокол'!J7),'Рабочий протокол'!J7,IF(AND(OR(M7="",M7="."),LEN(SUBSTITUTE(C7,".",""))>0,LEN(C7)<=15),VALUE(SUBSTITUTE(C7,".",""))/10^IF(ISNUMBER(FIND(".",C7)),LEN(C7)-FIND(".",C7),0),"ТЕКСТ"))) | F7: =IF(ISNUMBER(D7),IF(D7>0,D7,""),"") | J7: =SUBSTITUTE(SUBSTITUTE(SUBSTITUTE(SUBSTITUTE(SUBSTITUTE(B7,"0",""),"1",""),"2",""),"3",""),"4","") | K7: =SUBSTITUTE(SUBSTITUTE(SUBSTITUTE(SUBSTITUTE(SUBSTITUTE(J7,"5",""),"6",""),"7",""),"8",""),"9","") | L7: =SUBSTITUTE(SUBSTITUTE(SUBSTITUTE(SUBSTITUTE(SUBSTITUTE(C7,"0",""),"1",""),"2",""),"3",""),"4","") | M7: =SUBSTITUTE(SUBSTITUTE(SUBSTITUTE(SUBSTITUTE(SUBSTITUTE(L7,"5",""),"6",""),"7",""),"8",""),"9","") | P7: =AND(ISNUMBER(FIND(MID("x"&'Рабочий протокол'!C7,2,1),"0123456789")),ISNUMBER(FIND(MID("x"&'Рабочий протокол'!C7,3,1),"0123456789")),ISNUMBER(FIND(MID("x"&'Рабочий протокол'!C7,4,1),"0123456789")),ISNUMBER(FIND(MID("x"&'Рабочий протокол'!C7,5,1),"0123456789")),ISNUMBER(FIND(MID("x"&'Рабочий протокол'!C7,6,1),"0123456789"))) -> TRUE | Q7: =AND(ISNUMBER(FIND(MID("x"&'Рабочий протокол'!C7,7,1),"0123456789")),ISNUMBER(FIND(MID("x"&'Рабочий протокол'!C7,8,1),"0123456789")),ISNUMBER(FIND(MID("x"&'Рабочий протокол'!C7,9,1),"0123456789")),ISNUMBER(FIND(MID("x"&'Рабочий протокол'!C7,10,1),"0123456789")),ISNUMBER(FIND(MID("x"&'Рабочий протокол'!C7,11,1),"0123456789"))) -> TRUE | R7: =AND(ISNUMBER(FIND(MID("x"&'Рабочий протокол'!C7,12,1),"0123456789")),ISNUMBER(FIND(MID("x"&'Рабочий протокол'!C7,13,1),"0123456789")),ISNUMBER(FIND(MID("x"&'Рабочий протокол'!C7,14,1),"0123456789"))) -> TRUE | S7: =IF('Рабочий протокол'!C7="","НЕТ КОДА",IF(NOT(AND(LEN('Рабочий протокол'!C7&"")=13,P7,Q7,R7)),"КОД: 13 ЦИФР",IF(COUNTIF('Рабочий протокол'!C$4:C$103,'Рабочий протокол'!C7)>1,"ПОВТОР КОДА",""))) -> НЕТ КОДА | T7: =IF(D7="","ВНЕСИТЕ ВРЕМЯ",IF(NOT(ISNUMBER(D7)),"ВРЕМЯ: ВВЕДИТЕ ЧИСЛО",IF(OR(D7<0,ROUND(D7,2)<>D7),"ВРЕМЯ: ≥0, ДО 2 ЗНАКОВ",""))) -> ВНЕСИТЕ ВРЕМЯ | U7: =IF(E7="","ВНЕСИТЕ ГИМНАСТИКУ",IF(NOT(ISNUMBER(E7)),"ГИМНАСТИКА: ВВЕДИТЕ ЧИСЛО",IF(OR(E7<0,E7>10,ROUND(E7,2)<>E7),"ГИМНАСТИКА: 0–10, ДО 2 ЗНАКОВ",""))) -> ВНЕСИТЕ ГИМНАСТИКУ | V7: =IF(OR(COUNT('Рабочий протокол'!$E$3,'Рабочий протокол'!$I$3)<>2,'Рабочий протокол'!$E$3<0,'Рабочий протокол'!$I$3<MAX(E$4:E$103),'Рабочий протокол'!$I$3>10,AND(COUNT(F$4:F$103)>0,OR('Рабочий протокол'!$E$3<=0,'Рабочий протокол'!$E$3>MIN(F$4:F$103))),AND(OR(I$4<>"",I$5<>""),COUNT(I$4:I$5)<>2)),"ПРОВЕРЬТЕ ЛУЧШИЕ","OK") -> OK | W7: =IF(COUNTA('Рабочий протокол'!B7:C7,'Рабочий протокол'!F7,'Рабочий протокол'!J7)=0,"",IF(S7<>"",S7,IF(T7<>"",T7,IF(U7<>"",U7,V7))))
A8: 5 | B8: =IF(ISERROR('Рабочий протокол'!F8),"ТЕКСТ",SUBSTITUTE(TRIM(SUBSTITUTE('Рабочий протокол'!F8&"",CHAR(160)," ")),",",".")) | C8: =IF(ISERROR('Рабочий протокол'!J8),"ТЕКСТ",SUBSTITUTE(TRIM(SUBSTITUTE('Рабочий протокол'!J8&"",CHAR(160)," ")),",",".")) | D8: =IF(B8="","",IF(ISNUMBER('Рабочий протокол'!F8),'Рабочий протокол'!F8,IF(AND(OR(K8="",K8="."),LEN(SUBSTITUTE(B8,".",""))>0,LEN(B8)<=15),VALUE(SUBSTITUTE(B8,".",""))/10^IF(ISNUMBER(FIND(".",B8)),LEN(B8)-FIND(".",B8),0),"ТЕКСТ"))) | E8: =IF(C8="","",IF(ISNUMBER('Рабочий протокол'!J8),'Рабочий протокол'!J8,IF(AND(OR(M8="",M8="."),LEN(SUBSTITUTE(C8,".",""))>0,LEN(C8)<=15),VALUE(SUBSTITUTE(C8,".",""))/10^IF(ISNUMBER(FIND(".",C8)),LEN(C8)-FIND(".",C8),0),"ТЕКСТ"))) | F8: =IF(ISNUMBER(D8),IF(D8>0,D8,""),"") | J8: =SUBSTITUTE(SUBSTITUTE(SUBSTITUTE(SUBSTITUTE(SUBSTITUTE(B8,"0",""),"1",""),"2",""),"3",""),"4","") | K8: =SUBSTITUTE(SUBSTITUTE(SUBSTITUTE(SUBSTITUTE(SUBSTITUTE(J8,"5",""),"6",""),"7",""),"8",""),"9","") | L8: =SUBSTITUTE(SUBSTITUTE(SUBSTITUTE(SUBSTITUTE(SUBSTITUTE(C8,"0",""),"1",""),"2",""),"3",""),"4","") | M8: =SUBSTITUTE(SUBSTITUTE(SUBSTITUTE(SUBSTITUTE(SUBSTITUTE(L8,"5",""),"6",""),"7",""),"8",""),"9","") | P8: =AND(ISNUMBER(FIND(MID("x"&'Рабочий протокол'!C8,2,1),"0123456789")),ISNUMBER(FIND(MID("x"&'Рабочий протокол'!C8,3,1),"0123456789")),ISNUMBER(FIND(MID("x"&'Рабочий протокол'!C8,4,1),"0123456789")),ISNUMBER(FIND(MID("x"&'Рабочий протокол'!C8,5,1),"0123456789")),ISNUMBER(FIND(MID("x"&'Рабочий протокол'!C8,6,1),"0123456789"))) -> TRUE | Q8: =AND(ISNUMBER(FIND(MID("x"&'Рабочий протокол'!C8,7,1),"0123456789")),ISNUMBER(FIND(MID("x"&'Рабочий протокол'!C8,8,1),"0123456789")),ISNUMBER(FIND(MID("x"&'Рабочий протокол'!C8,9,1),"0123456789")),ISNUMBER(FIND(MID("x"&'Рабочий протокол'!C8,10,1),"0123456789")),ISNUMBER(FIND(MID("x"&'Рабочий протокол'!C8,11,1),"0123456789"))) -> TRUE | R8: =AND(ISNUMBER(FIND(MID("x"&'Рабочий протокол'!C8,12,1),"0123456789")),ISNUMBER(FIND(MID("x"&'Рабочий протокол'!C8,13,1),"0123456789")),ISNUMBER(FIND(MID("x"&'Рабочий протокол'!C8,14,1),"0123456789"))) -> TRUE | S8: =IF('Рабочий протокол'!C8="","НЕТ КОДА",IF(NOT(AND(LEN('Рабочий протокол'!C8&"")=13,P8,Q8,R8)),"КОД: 13 ЦИФР",IF(COUNTIF('Рабочий протокол'!C$4:C$103,'Рабочий протокол'!C8)>1,"ПОВТОР КОДА",""))) -> НЕТ КОДА | T8: =IF(D8="","ВНЕСИТЕ ВРЕМЯ",IF(NOT(ISNUMBER(D8)),"ВРЕМЯ: ВВЕДИТЕ ЧИСЛО",IF(OR(D8<0,ROUND(D8,2)<>D8),"ВРЕМЯ: ≥0, ДО 2 ЗНАКОВ",""))) -> ВНЕСИТЕ ВРЕМЯ | U8: =IF(E8="","ВНЕСИТЕ ГИМНАСТИКУ",IF(NOT(ISNUMBER(E8)),"ГИМНАСТИКА: ВВЕДИТЕ ЧИСЛО",IF(OR(E8<0,E8>10,ROUND(E8,2)<>E8),"ГИМНАСТИКА: 0–10, ДО 2 ЗНАКОВ",""))) -> ВНЕСИТЕ ГИМНАСТИКУ | V8: =IF(OR(COUNT('Рабочий протокол'!$E$3,'Рабочий протокол'!$I$3)<>2,'Рабочий протокол'!$E$3<0,'Рабочий протокол'!$I$3<MAX(E$4:E$103),'Рабочий протокол'!$I$3>10,AND(COUNT(F$4:F$103)>0,OR('Рабочий протокол'!$E$3<=0,'Рабочий протокол'!$E$3>MIN(F$4:F$103))),AND(OR(I$4<>"",I$5<>""),COUNT(I$4:I$5)<>2)),"ПРОВЕРЬТЕ ЛУЧШИЕ","OK") -> OK | W8: =IF(COUNTA('Рабочий протокол'!B8:C8,'Рабочий протокол'!F8,'Рабочий протокол'!J8)=0,"",IF(S8<>"",S8,IF(T8<>"",T8,IF(U8<>"",U8,V8))))
A9: 6 | B9: =IF(ISERROR('Рабочий протокол'!F9),"ТЕКСТ",SUBSTITUTE(TRIM(SUBSTITUTE('Рабочий протокол'!F9&"",CHAR(160)," ")),",",".")) | C9: =IF(ISERROR('Рабочий протокол'!J9),"ТЕКСТ",SUBSTITUTE(TRIM(SUBSTITUTE('Рабочий протокол'!J9&"",CHAR(160)," ")),",",".")) | D9: =IF(B9="","",IF(ISNUMBER('Рабочий протокол'!F9),'Рабочий протокол'!F9,IF(AND(OR(K9="",K9="."),LEN(SUBSTITUTE(B9,".",""))>0,LEN(B9)<=15),VALUE(SUBSTITUTE(B9,".",""))/10^IF(ISNUMBER(FIND(".",B9)),LEN(B9)-FIND(".",B9),0),"ТЕКСТ"))) | E9: =IF(C9="","",IF(ISNUMBER('Рабочий протокол'!J9),'Рабочий протокол'!J9,IF(AND(OR(M9="",M9="."),LEN(SUBSTITUTE(C9,".",""))>0,LEN(C9)<=15),VALUE(SUBSTITUTE(C9,".",""))/10^IF(ISNUMBER(FIND(".",C9)),LEN(C9)-FIND(".",C9),0),"ТЕКСТ"))) | F9: =IF(ISNUMBER(D9),IF(D9>0,D9,""),"") | J9: =SUBSTITUTE(SUBSTITUTE(SUBSTITUTE(SUBSTITUTE(SUBSTITUTE(B9,"0",""),"1",""),"2",""),"3",""),"4","") | K9: =SUBSTITUTE(SUBSTITUTE(SUBSTITUTE(SUBSTITUTE(SUBSTITUTE(J9,"5",""),"6",""),"7",""),"8",""),"9","") | L9: =SUBSTITUTE(SUBSTITUTE(SUBSTITUTE(SUBSTITUTE(SUBSTITUTE(C9,"0",""),"1",""),"2",""),"3",""),"4","") | M9: =SUBSTITUTE(SUBSTITUTE(SUBSTITUTE(SUBSTITUTE(SUBSTITUTE(L9,"5",""),"6",""),"7",""),"8",""),"9","") | P9: =AND(ISNUMBER(FIND(MID("x"&'Рабочий протокол'!C9,2,1),"0123456789")),ISNUMBER(FIND(MID("x"&'Рабочий протокол'!C9,3,1),"0123456789")),ISNUMBER(FIND(MID("x"&'Рабочий протокол'!C9,4,1),"0123456789")),ISNUMBER(FIND(MID("x"&'Рабочий протокол'!C9,5,1),"0123456789")),ISNUMBER(FIND(MID("x"&'Рабочий протокол'!C9,6,1),"0123456789"))) -> TRUE | Q9: =AND(ISNUMBER(FIND(MID("x"&'Рабочий протокол'!C9,7,1),"0123456789")),ISNUMBER(FIND(MID("x"&'Рабочий протокол'!C9,8,1),"0123456789")),ISNUMBER(FIND(MID("x"&'Рабочий протокол'!C9,9,1),"0123456789")),ISNUMBER(FIND(MID("x"&'Рабочий протокол'!C9,10,1),"0123456789")),ISNUMBER(FIND(MID("x"&'Рабочий протокол'!C9,11,1),"0123456789"))) -> TRUE | R9: =AND(ISNUMBER(FIND(MID("x"&'Рабочий протокол'!C9,12,1),"0123456789")),ISNUMBER(FIND(MID("x"&'Рабочий протокол'!C9,13,1),"0123456789")),ISNUMBER(FIND(MID("x"&'Рабочий протокол'!C9,14,1),"0123456789"))) -> TRUE | S9: =IF('Рабочий протокол'!C9="","НЕТ КОДА",IF(NOT(AND(LEN('Рабочий протокол'!C9&"")=13,P9,Q9,R9)),"КОД: 13 ЦИФР",IF(COUNTIF('Рабочий протокол'!C$4:C$103,'Рабочий протокол'!C9)>1,"ПОВТОР КОДА",""))) -> НЕТ КОДА | T9: =IF(D9="","ВНЕСИТЕ ВРЕМЯ",IF(NOT(ISNUMBER(D9)),"ВРЕМЯ: ВВЕДИТЕ ЧИСЛО",IF(OR(D9<0,ROUND(D9,2)<>D9),"ВРЕМЯ: ≥0, ДО 2 ЗНАКОВ",""))) -> ВНЕСИТЕ ВРЕМЯ | U9: =IF(E9="","ВНЕСИТЕ ГИМНАСТИКУ",IF(NOT(ISNUMBER(E9)),"ГИМНАСТИКА: ВВЕДИТЕ ЧИСЛО",IF(OR(E9<0,E9>10,ROUND(E9,2)<>E9),"ГИМНАСТИКА: 0–10, ДО 2 ЗНАКОВ",""))) -> ВНЕСИТЕ ГИМНАСТИКУ | V9: =IF(OR(COUNT('Рабочий протокол'!$E$3,'Рабочий протокол'!$I$3)<>2,'Рабочий протокол'!$E$3<0,'Рабочий протокол'!$I$3<MAX(E$4:E$103),'Рабочий протокол'!$I$3>10,AND(COUNT(F$4:F$103)>0,OR('Рабочий протокол'!$E$3<=0,'Рабочий протокол'!$E$3>MIN(F$4:F$103))),AND(OR(I$4<>"",I$5<>""),COUNT(I$4:I$5)<>2)),"ПРОВЕРЬТЕ ЛУЧШИЕ","OK") -> OK | W9: =IF(COUNTA('Рабочий протокол'!B9:C9,'Рабочий протокол'!F9,'Рабочий протокол'!J9)=0,"",IF(S9<>"",S9,IF(T9<>"",T9,IF(U9<>"",U9,V9))))
A10: 7 | B10: =IF(ISERROR('Рабочий протокол'!F10),"ТЕКСТ",SUBSTITUTE(TRIM(SUBSTITUTE('Рабочий протокол'!F10&"",CHAR(160)," ")),",",".")) | C10: =IF(ISERROR('Рабочий протокол'!J10),"ТЕКСТ",SUBSTITUTE(TRIM(SUBSTITUTE('Рабочий протокол'!J10&"",CHAR(160)," ")),",",".")) | D10: =IF(B10="","",IF(ISNUMBER('Рабочий протокол'!F10),'Рабочий протокол'!F10,IF(AND(OR(K10="",K10="."),LEN(SUBSTITUTE(B10,".",""))>0,LEN(B10)<=15),VALUE(SUBSTITUTE(B10,".",""))/10^IF(ISNUMBER(FIND(".",B10)),LEN(B10)-FIND(".",B10),0),"ТЕКСТ"))) | E10: =IF(C10="","",IF(ISNUMBER('Рабочий протокол'!J10),'Рабочий протокол'!J10,IF(AND(OR(M10="",M10="."),LEN(SUBSTITUTE(C10,".",""))>0,LEN(C10)<=15),VALUE(SUBSTITUTE(C10,".",""))/10^IF(ISNUMBER(FIND(".",C10)),LEN(C10)-FIND(".",C10),0),"ТЕКСТ"))) | F10: =IF(ISNUMBER(D10),IF(D10>0,D10,""),"") | J10: =SUBSTITUTE(SUBSTITUTE(SUBSTITUTE(SUBSTITUTE(SUBSTITUTE(B10,"0",""),"1",""),"2",""),"3",""),"4","") | K10: =SUBSTITUTE(SUBSTITUTE(SUBSTITUTE(SUBSTITUTE(SUBSTITUTE(J10,"5",""),"6",""),"7",""),"8",""),"9","") | L10: =SUBSTITUTE(SUBSTITUTE(SUBSTITUTE(SUBSTITUTE(SUBSTITUTE(C10,"0",""),"1",""),"2",""),"3",""),"4","") | M10: =SUBSTITUTE(SUBSTITUTE(SUBSTITUTE(SUBSTITUTE(SUBSTITUTE(L10,"5",""),"6",""),"7",""),"8",""),"9","") | P10: =AND(ISNUMBER(FIND(MID("x"&'Рабочий протокол'!C10,2,1),"0123456789")),ISNUMBER(FIND(MID("x"&'Рабочий протокол'!C10,3,1),"0123456789")),ISNUMBER(FIND(MID("x"&'Рабочий протокол'!C10,4,1),"0123456789")),ISNUMBER(FIND(MID("x"&'Рабочий протокол'!C10,5,1),"0123456789")),ISNUMBER(FIND(MID("x"&'Рабочий протокол'!C10,6,1),"0123456789"))) -> TRUE | Q10: =AND(ISNUMBER(FIND(MID("x"&'Рабочий протокол'!C10,7,1),"0123456789")),ISNUMBER(FIND(MID("x"&'Рабочий протокол'!C10,8,1),"0123456789")),ISNUMBER(FIND(MID("x"&'Рабочий протокол'!C10,9,1),"0123456789")),ISNUMBER(FIND(MID("x"&'Рабочий протокол'!C10,10,1),"0123456789")),ISNUMBER(FIND(MID("x"&'Рабочий протокол'!C10,11,1),"0123456789"))) -> TRUE | R10: =AND(ISNUMBER(FIND(MID("x"&'Рабочий протокол'!C10,12,1),"0123456789")),ISNUMBER(FIND(MID("x"&'Рабочий протокол'!C10,13,1),"0123456789")),ISNUMBER(FIND(MID("x"&'Рабочий протокол'!C10,14,1),"0123456789"))) -> TRUE | S10: =IF('Рабочий протокол'!C10="","НЕТ КОДА",IF(NOT(AND(LEN('Рабочий протокол'!C10&"")=13,P10,Q10,R10)),"КОД: 13 ЦИФР",IF(COUNTIF('Рабочий протокол'!C$4:C$103,'Рабочий протокол'!C10)>1,"ПОВТОР КОДА",""))) -> НЕТ КОДА | T10: =IF(D10="","ВНЕСИТЕ ВРЕМЯ",IF(NOT(ISNUMBER(D10)),"ВРЕМЯ: ВВЕДИТЕ ЧИСЛО",IF(OR(D10<0,ROUND(D10,2)<>D10),"ВРЕМЯ: ≥0, ДО 2 ЗНАКОВ",""))) -> ВНЕСИТЕ ВРЕМЯ | U10: =IF(E10="","ВНЕСИТЕ ГИМНАСТИКУ",IF(NOT(ISNUMBER(E10)),"ГИМНАСТИКА: ВВЕДИТЕ ЧИСЛО",IF(OR(E10<0,E10>10,ROUND(E10,2)<>E10),"ГИМНАСТИКА: 0–10, ДО 2 ЗНАКОВ",""))) -> ВНЕСИТЕ ГИМНАСТИКУ | V10: =IF(OR(COUNT('Рабочий протокол'!$E$3,'Рабочий протокол'!$I$3)<>2,'Рабочий протокол'!$E$3<0,'Рабочий протокол'!$I$3<MAX(E$4:E$103),'Рабочий протокол'!$I$3>10,AND(COUNT(F$4:F$103)>0,OR('Рабочий протокол'!$E$3<=0,'Рабочий протокол'!$E$3>MIN(F$4:F$103))),AND(OR(I$4<>"",I$5<>""),COUNT(I$4:I$5)<>2)),"ПРОВЕРЬТЕ ЛУЧШИЕ","OK") -> OK | W10: =IF(COUNTA('Рабочий протокол'!B10:C10,'Рабочий протокол'!F10,'Рабочий протокол'!J10)=0,"",IF(S10<>"",S10,IF(T10<>"",T10,IF(U10<>"",U10,V10))))
A11: 8 | B11: =IF(ISERROR('Рабочий протокол'!F11),"ТЕКСТ",SUBSTITUTE(TRIM(SUBSTITUTE('Рабочий протокол'!F11&"",CHAR(160)," ")),",",".")) | C11: =IF(ISERROR('Рабочий протокол'!J11),"ТЕКСТ",SUBSTITUTE(TRIM(SUBSTITUTE('Рабочий протокол'!J11&"",CHAR(160)," ")),",",".")) | D11: =IF(B11="","",IF(ISNUMBER('Рабочий протокол'!F11),'Рабочий протокол'!F11,IF(AND(OR(K11="",K11="."),LEN(SUBSTITUTE(B11,".",""))>0,LEN(B11)<=15),VALUE(SUBSTITUTE(B11,".",""))/10^IF(ISNUMBER(FIND(".",B11)),LEN(B11)-FIND(".",B11),0),"ТЕКСТ"))) | E11: =IF(C11="","",IF(ISNUMBER('Рабочий протокол'!J11),'Рабочий протокол'!J11,IF(AND(OR(M11="",M11="."),LEN(SUBSTITUTE(C11,".",""))>0,LEN(C11)<=15),VALUE(SUBSTITUTE(C11,".",""))/10^IF(ISNUMBER(FIND(".",C11)),LEN(C11)-FIND(".",C11),0),"ТЕКСТ"))) | F11: =IF(ISNUMBER(D11),IF(D11>0,D11,""),"") | J11: =SUBSTITUTE(SUBSTITUTE(SUBSTITUTE(SUBSTITUTE(SUBSTITUTE(B11,"0",""),"1",""),"2",""),"3",""),"4","") | K11: =SUBSTITUTE(SUBSTITUTE(SUBSTITUTE(SUBSTITUTE(SUBSTITUTE(J11,"5",""),"6",""),"7",""),"8",""),"9","") | L11: =SUBSTITUTE(SUBSTITUTE(SUBSTITUTE(SUBSTITUTE(SUBSTITUTE(C11,"0",""),"1",""),"2",""),"3",""),"4","") | M11: =SUBSTITUTE(SUBSTITUTE(SUBSTITUTE(SUBSTITUTE(SUBSTITUTE(L11,"5",""),"6",""),"7",""),"8",""),"9","") | P11: =AND(ISNUMBER(FIND(MID("x"&'Рабочий протокол'!C11,2,1),"0123456789")),ISNUMBER(FIND(MID("x"&'Рабочий протокол'!C11,3,1),"0123456789")),ISNUMBER(FIND(MID("x"&'Рабочий протокол'!C11,4,1),"0123456789")),ISNUMBER(FIND(MID("x"&'Рабочий протокол'!C11,5,1),"0123456789")),ISNUMBER(FIND(MID("x"&'Рабочий протокол'!C11,6,1),"0123456789"))) -> TRUE | Q11: =AND(ISNUMBER(FIND(MID("x"&'Рабочий протокол'!C11,7,1),"0123456789")),ISNUMBER(FIND(MID("x"&'Рабочий протокол'!C11,8,1),"0123456789")),ISNUMBER(FIND(MID("x"&'Рабочий протокол'!C11,9,1),"0123456789")),ISNUMBER(FIND(MID("x"&'Рабочий протокол'!C11,10,1),"0123456789")),ISNUMBER(FIND(MID("x"&'Рабочий протокол'!C11,11,1),"0123456789"))) -> TRUE | R11: =AND(ISNUMBER(FIND(MID("x"&'Рабочий протокол'!C11,12,1),"0123456789")),ISNUMBER(FIND(MID("x"&'Рабочий протокол'!C11,13,1),"0123456789")),ISNUMBER(FIND(MID("x"&'Рабочий протокол'!C11,14,1),"0123456789"))) -> TRUE | S11: =IF('Рабочий протокол'!C11="","НЕТ КОДА",IF(NOT(AND(LEN('Рабочий протокол'!C11&"")=13,P11,Q11,R11)),"КОД: 13 ЦИФР",IF(COUNTIF('Рабочий протокол'!C$4:C$103,'Рабочий протокол'!C11)>1,"ПОВТОР КОДА",""))) -> НЕТ КОДА | T11: =IF(D11="","ВНЕСИТЕ ВРЕМЯ",IF(NOT(ISNUMBER(D11)),"ВРЕМЯ: ВВЕДИТЕ ЧИСЛО",IF(OR(D11<0,ROUND(D11,2)<>D11),"ВРЕМЯ: ≥0, ДО 2 ЗНАКОВ",""))) -> ВНЕСИТЕ ВРЕМЯ | U11: =IF(E11="","ВНЕСИТЕ ГИМНАСТИКУ",IF(NOT(ISNUMBER(E11)),"ГИМНАСТИКА: ВВЕДИТЕ ЧИСЛО",IF(OR(E11<0,E11>10,ROUND(E11,2)<>E11),"ГИМНАСТИКА: 0–10, ДО 2 ЗНАКОВ",""))) -> ВНЕСИТЕ ГИМНАСТИКУ | V11: =IF(OR(COUNT('Рабочий протокол'!$E$3,'Рабочий протокол'!$I$3)<>2,'Рабочий протокол'!$E$3<0,'Рабочий протокол'!$I$3<MAX(E$4:E$103),'Рабочий протокол'!$I$3>10,AND(COUNT(F$4:F$103)>0,OR('Рабочий протокол'!$E$3<=0,'Рабочий протокол'!$E$3>MIN(F$4:F$103))),AND(OR(I$4<>"",I$5<>""),COUNT(I$4:I$5)<>2)),"ПРОВЕРЬТЕ ЛУЧШИЕ","OK") -> OK | W11: =IF(COUNTA('Рабочий протокол'!B11:C11,'Рабочий протокол'!F11,'Рабочий протокол'!J11)=0,"",IF(S11<>"",S11,IF(T11<>"",T11,IF(U11<>"",U11,V11))))
A12: 9 | B12: =IF(ISERROR('Рабочий протокол'!F12),"ТЕКСТ",SUBSTITUTE(TRIM(SUBSTITUTE('Рабочий протокол'!F12&"",CHAR(160)," ")),",",".")) | C12: =IF(ISERROR('Рабочий протокол'!J12),"ТЕКСТ",SUBSTITUTE(TRIM(SUBSTITUTE('Рабочий протокол'!J12&"",CHAR(160)," ")),",",".")) | D12: =IF(B12="","",IF(ISNUMBER('Рабочий протокол'!F12),'Рабочий протокол'!F12,IF(AND(OR(K12="",K12="."),LEN(SUBSTITUTE(B12,".",""))>0,LEN(B12)<=15),VALUE(SUBSTITUTE(B12,".",""))/10^IF(ISNUMBER(FIND(".",B12)),LEN(B12)-FIND(".",B12),0),"ТЕКСТ"))) | E12: =IF(C12="","",IF(ISNUMBER('Рабочий протокол'!J12),'Рабочий протокол'!J12,IF(AND(OR(M12="",M12="."),LEN(SUBSTITUTE(C12,".",""))>0,LEN(C12)<=15),VALUE(SUBSTITUTE(C12,".",""))/10^IF(ISNUMBER(FIND(".",C12)),LEN(C12)-FIND(".",C12),0),"ТЕКСТ"))) | F12: =IF(ISNUMBER(D12),IF(D12>0,D12,""),"") | J12: =SUBSTITUTE(SUBSTITUTE(SUBSTITUTE(SUBSTITUTE(SUBSTITUTE(B12,"0",""),"1",""),"2",""),"3",""),"4","") | K12: =SUBSTITUTE(SUBSTITUTE(SUBSTITUTE(SUBSTITUTE(SUBSTITUTE(J12,"5",""),"6",""),"7",""),"8",""),"9","") | L12: =SUBSTITUTE(SUBSTITUTE(SUBSTITUTE(SUBSTITUTE(SUBSTITUTE(C12,"0",""),"1",""),"2",""),"3",""),"4","") | M12: =SUBSTITUTE(SUBSTITUTE(SUBSTITUTE(SUBSTITUTE(SUBSTITUTE(L12,"5",""),"6",""),"7",""),"8",""),"9","") | P12: =AND(ISNUMBER(FIND(MID("x"&'Рабочий протокол'!C12,2,1),"0123456789")),ISNUMBER(FIND(MID("x"&'Рабочий протокол'!C12,3,1),"0123456789")),ISNUMBER(FIND(MID("x"&'Рабочий протокол'!C12,4,1),"0123456789")),ISNUMBER(FIND(MID("x"&'Рабочий протокол'!C12,5,1),"0123456789")),ISNUMBER(FIND(MID("x"&'Рабочий протокол'!C12,6,1),"0123456789"))) -> TRUE | Q12: =AND(ISNUMBER(FIND(MID("x"&'Рабочий протокол'!C12,7,1),"0123456789")),ISNUMBER(FIND(MID("x"&'Рабочий протокол'!C12,8,1),"0123456789")),ISNUMBER(FIND(MID("x"&'Рабочий протокол'!C12,9,1),"0123456789")),ISNUMBER(FIND(MID("x"&'Рабочий протокол'!C12,10,1),"0123456789")),ISNUMBER(FIND(MID("x"&'Рабочий протокол'!C12,11,1),"0123456789"))) -> TRUE | R12: =AND(ISNUMBER(FIND(MID("x"&'Рабочий протокол'!C12,12,1),"0123456789")),ISNUMBER(FIND(MID("x"&'Рабочий протокол'!C12,13,1),"0123456789")),ISNUMBER(FIND(MID("x"&'Рабочий протокол'!C12,14,1),"0123456789"))) -> TRUE | S12: =IF('Рабочий протокол'!C12="","НЕТ КОДА",IF(NOT(AND(LEN('Рабочий протокол'!C12&"")=13,P12,Q12,R12)),"КОД: 13 ЦИФР",IF(COUNTIF('Рабочий протокол'!C$4:C$103,'Рабочий протокол'!C12)>1,"ПОВТОР КОДА",""))) -> НЕТ КОДА | T12: =IF(D12="","ВНЕСИТЕ ВРЕМЯ",IF(NOT(ISNUMBER(D12)),"ВРЕМЯ: ВВЕДИТЕ ЧИСЛО",IF(OR(D12<0,ROUND(D12,2)<>D12),"ВРЕМЯ: ≥0, ДО 2 ЗНАКОВ",""))) -> ВНЕСИТЕ ВРЕМЯ | U12: =IF(E12="","ВНЕСИТЕ ГИМНАСТИКУ",IF(NOT(ISNUMBER(E12)),"ГИМНАСТИКА: ВВЕДИТЕ ЧИСЛО",IF(OR(E12<0,E12>10,ROUND(E12,2)<>E12),"ГИМНАСТИКА: 0–10, ДО 2 ЗНАКОВ",""))) -> ВНЕСИТЕ ГИМНАСТИКУ | V12: =IF(OR(COUNT('Рабочий протокол'!$E$3,'Рабочий протокол'!$I$3)<>2,'Рабочий протокол'!$E$3<0,'Рабочий протокол'!$I$3<MAX(E$4:E$103),'Рабочий протокол'!$I$3>10,AND(COUNT(F$4:F$103)>0,OR('Рабочий протокол'!$E$3<=0,'Рабочий протокол'!$E$3>MIN(F$4:F$103))),AND(OR(I$4<>"",I$5<>""),COUNT(I$4:I$5)<>2)),"ПРОВЕРЬТЕ ЛУЧШИЕ","OK") -> OK | W12: =IF(COUNTA('Рабочий протокол'!B12:C12,'Рабочий протокол'!F12,'Рабочий протокол'!J12)=0,"",IF(S12<>"",S12,IF(T12<>"",T12,IF(U12<>"",U12,V12))))
A13: 10 | B13: =IF(ISERROR('Рабочий протокол'!F13),"ТЕКСТ",SUBSTITUTE(TRIM(SUBSTITUTE('Рабочий протокол'!F13&"",CHAR(160)," ")),",",".")) | C13: =IF(ISERROR('Рабочий протокол'!J13),"ТЕКСТ",SUBSTITUTE(TRIM(SUBSTITUTE('Рабочий протокол'!J13&"",CHAR(160)," ")),",",".")) | D13: =IF(B13="","",IF(ISNUMBER('Рабочий протокол'!F13),'Рабочий протокол'!F13,IF(AND(OR(K13="",K13="."),LEN(SUBSTITUTE(B13,".",""))>0,LEN(B13)<=15),VALUE(SUBSTITUTE(B13,".",""))/10^IF(ISNUMBER(FIND(".",B13)),LEN(B13)-FIND(".",B13),0),"ТЕКСТ"))) | E13: =IF(C13="","",IF(ISNUMBER('Рабочий протокол'!J13),'Рабочий протокол'!J13,IF(AND(OR(M13="",M13="."),LEN(SUBSTITUTE(C13,".",""))>0,LEN(C13)<=15),VALUE(SUBSTITUTE(C13,".",""))/10^IF(ISNUMBER(FIND(".",C13)),LEN(C13)-FIND(".",C13),0),"ТЕКСТ"))) | F13: =IF(ISNUMBER(D13),IF(D13>0,D13,""),"") | J13: =SUBSTITUTE(SUBSTITUTE(SUBSTITUTE(SUBSTITUTE(SUBSTITUTE(B13,"0",""),"1",""),"2",""),"3",""),"4","") | K13: =SUBSTITUTE(SUBSTITUTE(SUBSTITUTE(SUBSTITUTE(SUBSTITUTE(J13,"5",""),"6",""),"7",""),"8",""),"9","") | L13: =SUBSTITUTE(SUBSTITUTE(SUBSTITUTE(SUBSTITUTE(SUBSTITUTE(C13,"0",""),"1",""),"2",""),"3",""),"4","") | M13: =SUBSTITUTE(SUBSTITUTE(SUBSTITUTE(SUBSTITUTE(SUBSTITUTE(L13,"5",""),"6",""),"7",""),"8",""),"9","") | P13: =AND(ISNUMBER(FIND(MID("x"&'Рабочий протокол'!C13,2,1),"0123456789")),ISNUMBER(FIND(MID("x"&'Рабочий протокол'!C13,3,1),"0123456789")),ISNUMBER(FIND(MID("x"&'Рабочий протокол'!C13,4,1),"0123456789")),ISNUMBER(FIND(MID("x"&'Рабочий протокол'!C13,5,1),"0123456789")),ISNUMBER(FIND(MID("x"&'Рабочий протокол'!C13,6,1),"0123456789"))) -> TRUE | Q13: =AND(ISNUMBER(FIND(MID("x"&'Рабочий протокол'!C13,7,1),"0123456789")),ISNUMBER(FIND(MID("x"&'Рабочий протокол'!C13,8,1),"0123456789")),ISNUMBER(FIND(MID("x"&'Рабочий протокол'!C13,9,1),"0123456789")),ISNUMBER(FIND(MID("x"&'Рабочий протокол'!C13,10,1),"0123456789")),ISNUMBER(FIND(MID("x"&'Рабочий протокол'!C13,11,1),"0123456789"))) -> TRUE | R13: =AND(ISNUMBER(FIND(MID("x"&'Рабочий протокол'!C13,12,1),"0123456789")),ISNUMBER(FIND(MID("x"&'Рабочий протокол'!C13,13,1),"0123456789")),ISNUMBER(FIND(MID("x"&'Рабочий протокол'!C13,14,1),"0123456789"))) -> TRUE | S13: =IF('Рабочий протокол'!C13="","НЕТ КОДА",IF(NOT(AND(LEN('Рабочий протокол'!C13&"")=13,P13,Q13,R13)),"КОД: 13 ЦИФР",IF(COUNTIF('Рабочий протокол'!C$4:C$103,'Рабочий протокол'!C13)>1,"ПОВТОР КОДА",""))) -> НЕТ КОДА | T13: =IF(D13="","ВНЕСИТЕ ВРЕМЯ",IF(NOT(ISNUMBER(D13)),"ВРЕМЯ: ВВЕДИТЕ ЧИСЛО",IF(OR(D13<0,ROUND(D13,2)<>D13),"ВРЕМЯ: ≥0, ДО 2 ЗНАКОВ",""))) -> ВНЕСИТЕ ВРЕМЯ | U13: =IF(E13="","ВНЕСИТЕ ГИМНАСТИКУ",IF(NOT(ISNUMBER(E13)),"ГИМНАСТИКА: ВВЕДИТЕ ЧИСЛО",IF(OR(E13<0,E13>10,ROUND(E13,2)<>E13),"ГИМНАСТИКА: 0–10, ДО 2 ЗНАКОВ",""))) -> ВНЕСИТЕ ГИМНАСТИКУ | V13: =IF(OR(COUNT('Рабочий протокол'!$E$3,'Рабочий протокол'!$I$3)<>2,'Рабочий протокол'!$E$3<0,'Рабочий протокол'!$I$3<MAX(E$4:E$103),'Рабочий протокол'!$I$3>10,AND(COUNT(F$4:F$103)>0,OR('Рабочий протокол'!$E$3<=0,'Рабочий протокол'!$E$3>MIN(F$4:F$103))),AND(OR(I$4<>"",I$5<>""),COUNT(I$4:I$5)<>2)),"ПРОВЕРЬТЕ ЛУЧШИЕ","OK") -> OK | W13: =IF(COUNTA('Рабочий протокол'!B13:C13,'Рабочий протокол'!F13,'Рабочий протокол'!J13)=0,"",IF(S13<>"",S13,IF(T13<>"",T13,IF(U13<>"",U13,V13))))
A14: 11 | B14: =IF(ISERROR('Рабочий протокол'!F14),"ТЕКСТ",SUBSTITUTE(TRIM(SUBSTITUTE('Рабочий протокол'!F14&"",CHAR(160)," ")),",",".")) | C14: =IF(ISERROR('Рабочий протокол'!J14),"ТЕКСТ",SUBSTITUTE(TRIM(SUBSTITUTE('Рабочий протокол'!J14&"",CHAR(160)," ")),",",".")) | D14: =IF(B14="","",IF(ISNUMBER('Рабочий протокол'!F14),'Рабочий протокол'!F14,IF(AND(OR(K14="",K14="."),LEN(SUBSTITUTE(B14,".",""))>0,LEN(B14)<=15),VALUE(SUBSTITUTE(B14,".",""))/10^IF(ISNUMBER(FIND(".",B14)),LEN(B14)-FIND(".",B14),0),"ТЕКСТ"))) | E14: =IF(C14="","",IF(ISNUMBER('Рабочий протокол'!J14),'Рабочий протокол'!J14,IF(AND(OR(M14="",M14="."),LEN(SUBSTITUTE(C14,".",""))>0,LEN(C14)<=15),VALUE(SUBSTITUTE(C14,".",""))/10^IF(ISNUMBER(FIND(".",C14)),LEN(C14)-FIND(".",C14),0),"ТЕКСТ"))) | F14: =IF(ISNUMBER(D14),IF(D14>0,D14,""),"") | J14: =SUBSTITUTE(SUBSTITUTE(SUBSTITUTE(SUBSTITUTE(SUBSTITUTE(B14,"0",""),"1",""),"2",""),"3",""),"4","") | K14: =SUBSTITUTE(SUBSTITUTE(SUBSTITUTE(SUBSTITUTE(SUBSTITUTE(J14,"5",""),"6",""),"7",""),"8",""),"9","") | L14: =SUBSTITUTE(SUBSTITUTE(SUBSTITUTE(SUBSTITUTE(SUBSTITUTE(C14,"0",""),"1",""),"2",""),"3",""),"4","") | M14: =SUBSTITUTE(SUBSTITUTE(SUBSTITUTE(SUBSTITUTE(SUBSTITUTE(L14,"5",""),"6",""),"7",""),"8",""),"9","") | P14: =AND(ISNUMBER(FIND(MID("x"&'Рабочий протокол'!C14,2,1),"0123456789")),ISNUMBER(FIND(MID("x"&'Рабочий протокол'!C14,3,1),"0123456789")),ISNUMBER(FIND(MID("x"&'Рабочий протокол'!C14,4,1),"0123456789")),ISNUMBER(FIND(MID("x"&'Рабочий протокол'!C14,5,1),"0123456789")),ISNUMBER(FIND(MID("x"&'Рабочий протокол'!C14,6,1),"0123456789"))) -> TRUE | Q14: =AND(ISNUMBER(FIND(MID("x"&'Рабочий протокол'!C14,7,1),"0123456789")),ISNUMBER(FIND(MID("x"&'Рабочий протокол'!C14,8,1),"0123456789")),ISNUMBER(FIND(MID("x"&'Рабочий протокол'!C14,9,1),"0123456789")),ISNUMBER(FIND(MID("x"&'Рабочий протокол'!C14,10,1),"0123456789")),ISNUMBER(FIND(MID("x"&'Рабочий протокол'!C14,11,1),"0123456789"))) -> TRUE | R14: =AND(ISNUMBER(FIND(MID("x"&'Рабочий протокол'!C14,12,1),"0123456789")),ISNUMBER(FIND(MID("x"&'Рабочий протокол'!C14,13,1),"0123456789")),ISNUMBER(FIND(MID("x"&'Рабочий протокол'!C14,14,1),"0123456789"))) -> TRUE | S14: =IF('Рабочий протокол'!C14="","НЕТ КОДА",IF(NOT(AND(LEN('Рабочий протокол'!C14&"")=13,P14,Q14,R14)),"КОД: 13 ЦИФР",IF(COUNTIF('Рабочий протокол'!C$4:C$103,'Рабочий протокол'!C14)>1,"ПОВТОР КОДА",""))) -> НЕТ КОДА | T14: =IF(D14="","ВНЕСИТЕ ВРЕМЯ",IF(NOT(ISNUMBER(D14)),"ВРЕМЯ: ВВЕДИТЕ ЧИСЛО",IF(OR(D14<0,ROUND(D14,2)<>D14),"ВРЕМЯ: ≥0, ДО 2 ЗНАКОВ",""))) -> ВНЕСИТЕ ВРЕМЯ | U14: =IF(E14="","ВНЕСИТЕ ГИМНАСТИКУ",IF(NOT(ISNUMBER(E14)),"ГИМНАСТИКА: ВВЕДИТЕ ЧИСЛО",IF(OR(E14<0,E14>10,ROUND(E14,2)<>E14),"ГИМНАСТИКА: 0–10, ДО 2 ЗНАКОВ",""))) -> ВНЕСИТЕ ГИМНАСТИКУ | V14: =IF(OR(COUNT('Рабочий протокол'!$E$3,'Рабочий протокол'!$I$3)<>2,'Рабочий протокол'!$E$3<0,'Рабочий протокол'!$I$3<MAX(E$4:E$103),'Рабочий протокол'!$I$3>10,AND(COUNT(F$4:F$103)>0,OR('Рабочий протокол'!$E$3<=0,'Рабочий протокол'!$E$3>MIN(F$4:F$103))),AND(OR(I$4<>"",I$5<>""),COUNT(I$4:I$5)<>2)),"ПРОВЕРЬТЕ ЛУЧШИЕ","OK") -> OK | W14: =IF(COUNTA('Рабочий протокол'!B14:C14,'Рабочий протокол'!F14,'Рабочий протокол'!J14)=0,"",IF(S14<>"",S14,IF(T14<>"",T14,IF(U14<>"",U14,V14))))
A15: 12 | B15: =IF(ISERROR('Рабочий протокол'!F15),"ТЕКСТ",SUBSTITUTE(TRIM(SUBSTITUTE('Рабочий протокол'!F15&"",CHAR(160)," ")),",",".")) | C15: =IF(ISERROR('Рабочий протокол'!J15),"ТЕКСТ",SUBSTITUTE(TRIM(SUBSTITUTE('Рабочий протокол'!J15&"",CHAR(160)," ")),",",".")) | D15: =IF(B15="","",IF(ISNUMBER('Рабочий протокол'!F15),'Рабочий протокол'!F15,IF(AND(OR(K15="",K15="."),LEN(SUBSTITUTE(B15,".",""))>0,LEN(B15)<=15),VALUE(SUBSTITUTE(B15,".",""))/10^IF(ISNUMBER(FIND(".",B15)),LEN(B15)-FIND(".",B15),0),"ТЕКСТ"))) | E15: =IF(C15="","",IF(ISNUMBER('Рабочий протокол'!J15),'Рабочий протокол'!J15,IF(AND(OR(M15="",M15="."),LEN(SUBSTITUTE(C15,".",""))>0,LEN(C15)<=15),VALUE(SUBSTITUTE(C15,".",""))/10^IF(ISNUMBER(FIND(".",C15)),LEN(C15)-FIND(".",C15),0),"ТЕКСТ"))) | F15: =IF(ISNUMBER(D15),IF(D15>0,D15,""),"") | J15: =SUBSTITUTE(SUBSTITUTE(SUBSTITUTE(SUBSTITUTE(SUBSTITUTE(B15,"0",""),"1",""),"2",""),"3",""),"4","") | K15: =SUBSTITUTE(SUBSTITUTE(SUBSTITUTE(SUBSTITUTE(SUBSTITUTE(J15,"5",""),"6",""),"7",""),"8",""),"9","") | L15: =SUBSTITUTE(SUBSTITUTE(SUBSTITUTE(SUBSTITUTE(SUBSTITUTE(C15,"0",""),"1",""),"2",""),"3",""),"4","") | M15: =SUBSTITUTE(SUBSTITUTE(SUBSTITUTE(SUBSTITUTE(SUBSTITUTE(L15,"5",""),"6",""),"7",""),"8",""),"9","") | P15: =AND(ISNUMBER(FIND(MID("x"&'Рабочий протокол'!C15,2,1),"0123456789")),ISNUMBER(FIND(MID("x"&'Рабочий протокол'!C15,3,1),"0123456789")),ISNUMBER(FIND(MID("x"&'Рабочий протокол'!C15,4,1),"0123456789")),ISNUMBER(FIND(MID("x"&'Рабочий протокол'!C15,5,1),"0123456789")),ISNUMBER(FIND(MID("x"&'Рабочий протокол'!C15,6,1),"0123456789"))) -> TRUE | Q15: =AND(ISNUMBER(FIND(MID("x"&'Рабочий протокол'!C15,7,1),"0123456789")),ISNUMBER(FIND(MID("x"&'Рабочий протокол'!C15,8,1),"0123456789")),ISNUMBER(FIND(MID("x"&'Рабочий протокол'!C15,9,1),"0123456789")),ISNUMBER(FIND(MID("x"&'Рабочий протокол'!C15,10,1),"0123456789")),ISNUMBER(FIND(MID("x"&'Рабочий протокол'!C15,11,1),"0123456789"))) -> TRUE | R15: =AND(ISNUMBER(FIND(MID("x"&'Рабочий протокол'!C15,12,1),"0123456789")),ISNUMBER(FIND(MID("x"&'Рабочий протокол'!C15,13,1),"0123456789")),ISNUMBER(FIND(MID("x"&'Рабочий протокол'!C15,14,1),"0123456789"))) -> TRUE | S15: =IF('Рабочий протокол'!C15="","НЕТ КОДА",IF(NOT(AND(LEN('Рабочий протокол'!C15&"")=13,P15,Q15,R15)),"КОД: 13 ЦИФР",IF(COUNTIF('Рабочий протокол'!C$4:C$103,'Рабочий протокол'!C15)>1,"ПОВТОР КОДА",""))) -> НЕТ КОДА | T15: =IF(D15="","ВНЕСИТЕ ВРЕМЯ",IF(NOT(ISNUMBER(D15)),"ВРЕМЯ: ВВЕДИТЕ ЧИСЛО",IF(OR(D15<0,ROUND(D15,2)<>D15),"ВРЕМЯ: ≥0, ДО 2 ЗНАКОВ",""))) -> ВНЕСИТЕ ВРЕМЯ | U15: =IF(E15="","ВНЕСИТЕ ГИМНАСТИКУ",IF(NOT(ISNUMBER(E15)),"ГИМНАСТИКА: ВВЕДИТЕ ЧИСЛО",IF(OR(E15<0,E15>10,ROUND(E15,2)<>E15),"ГИМНАСТИКА: 0–10, ДО 2 ЗНАКОВ",""))) -> ВНЕСИТЕ ГИМНАСТИКУ | V15: =IF(OR(COUNT('Рабочий протокол'!$E$3,'Рабочий протокол'!$I$3)<>2,'Рабочий протокол'!$E$3<0,'Рабочий протокол'!$I$3<MAX(E$4:E$103),'Рабочий протокол'!$I$3>10,AND(COUNT(F$4:F$103)>0,OR('Рабочий протокол'!$E$3<=0,'Рабочий протокол'!$E$3>MIN(F$4:F$103))),AND(OR(I$4<>"",I$5<>""),COUNT(I$4:I$5)<>2)),"ПРОВЕРЬТЕ ЛУЧШИЕ","OK") -> OK | W15: =IF(COUNTA('Рабочий протокол'!B15:C15,'Рабочий протокол'!F15,'Рабочий протокол'!J15)=0,"",IF(S15<>"",S15,IF(T15<>"",T15,IF(U15<>"",U15,V15))))
A16: 13 | B16: =IF(ISERROR('Рабочий протокол'!F16),"ТЕКСТ",SUBSTITUTE(TRIM(SUBSTITUTE('Рабочий протокол'!F16&"",CHAR(160)," ")),",",".")) | C16: =IF(ISERROR('Рабочий протокол'!J16),"ТЕКСТ",SUBSTITUTE(TRIM(SUBSTITUTE('Рабочий протокол'!J16&"",CHAR(160)," ")),",",".")) | D16: =IF(B16="","",IF(ISNUMBER('Рабочий протокол'!F16),'Рабочий протокол'!F16,IF(AND(OR(K16="",K16="."),LEN(SUBSTITUTE(B16,".",""))>0,LEN(B16)<=15),VALUE(SUBSTITUTE(B16,".",""))/10^IF(ISNUMBER(FIND(".",B16)),LEN(B16)-FIND(".",B16),0),"ТЕКСТ"))) | E16: =IF(C16="","",IF(ISNUMBER('Рабочий протокол'!J16),'Рабочий протокол'!J16,IF(AND(OR(M16="",M16="."),LEN(SUBSTITUTE(C16,".",""))>0,LEN(C16)<=15),VALUE(SUBSTITUTE(C16,".",""))/10^IF(ISNUMBER(FIND(".",C16)),LEN(C16)-FIND(".",C16),0),"ТЕКСТ"))) | F16: =IF(ISNUMBER(D16),IF(D16>0,D16,""),"") | J16: =SUBSTITUTE(SUBSTITUTE(SUBSTITUTE(SUBSTITUTE(SUBSTITUTE(B16,"0",""),"1",""),"2",""),"3",""),"4","") | K16: =SUBSTITUTE(SUBSTITUTE(SUBSTITUTE(SUBSTITUTE(SUBSTITUTE(J16,"5",""),"6",""),"7",""),"8",""),"9","") | L16: =SUBSTITUTE(SUBSTITUTE(SUBSTITUTE(SUBSTITUTE(SUBSTITUTE(C16,"0",""),"1",""),"2",""),"3",""),"4","") | M16: =SUBSTITUTE(SUBSTITUTE(SUBSTITUTE(SUBSTITUTE(SUBSTITUTE(L16,"5",""),"6",""),"7",""),"8",""),"9","") | P16: =AND(ISNUMBER(FIND(MID("x"&'Рабочий протокол'!C16,2,1),"0123456789")),ISNUMBER(FIND(MID("x"&'Рабочий протокол'!C16,3,1),"0123456789")),ISNUMBER(FIND(MID("x"&'Рабочий протокол'!C16,4,1),"0123456789")),ISNUMBER(FIND(MID("x"&'Рабочий протокол'!C16,5,1),"0123456789")),ISNUMBER(FIND(MID("x"&'Рабочий протокол'!C16,6,1),"0123456789"))) -> TRUE | Q16: =AND(ISNUMBER(FIND(MID("x"&'Рабочий протокол'!C16,7,1),"0123456789")),ISNUMBER(FIND(MID("x"&'Рабочий протокол'!C16,8,1),"0123456789")),ISNUMBER(FIND(MID("x"&'Рабочий протокол'!C16,9,1),"0123456789")),ISNUMBER(FIND(MID("x"&'Рабочий протокол'!C16,10,1),"0123456789")),ISNUMBER(FIND(MID("x"&'Рабочий протокол'!C16,11,1),"0123456789"))) -> TRUE | R16: =AND(ISNUMBER(FIND(MID("x"&'Рабочий протокол'!C16,12,1),"0123456789")),ISNUMBER(FIND(MID("x"&'Рабочий протокол'!C16,13,1),"0123456789")),ISNUMBER(FIND(MID("x"&'Рабочий протокол'!C16,14,1),"0123456789"))) -> TRUE | S16: =IF('Рабочий протокол'!C16="","НЕТ КОДА",IF(NOT(AND(LEN('Рабочий протокол'!C16&"")=13,P16,Q16,R16)),"КОД: 13 ЦИФР",IF(COUNTIF('Рабочий протокол'!C$4:C$103,'Рабочий протокол'!C16)>1,"ПОВТОР КОДА",""))) -> НЕТ КОДА | T16: =IF(D16="","ВНЕСИТЕ ВРЕМЯ",IF(NOT(ISNUMBER(D16)),"ВРЕМЯ: ВВЕДИТЕ ЧИСЛО",IF(OR(D16<0,ROUND(D16,2)<>D16),"ВРЕМЯ: ≥0, ДО 2 ЗНАКОВ",""))) -> ВНЕСИТЕ ВРЕМЯ | U16: =IF(E16="","ВНЕСИТЕ ГИМНАСТИКУ",IF(NOT(ISNUMBER(E16)),"ГИМНАСТИКА: ВВЕДИТЕ ЧИСЛО",IF(OR(E16<0,E16>10,ROUND(E16,2)<>E16),"ГИМНАСТИКА: 0–10, ДО 2 ЗНАКОВ",""))) -> ВНЕСИТЕ ГИМНАСТИКУ | V16: =IF(OR(COUNT('Рабочий протокол'!$E$3,'Рабочий протокол'!$I$3)<>2,'Рабочий протокол'!$E$3<0,'Рабочий протокол'!$I$3<MAX(E$4:E$103),'Рабочий протокол'!$I$3>10,AND(COUNT(F$4:F$103)>0,OR('Рабочий протокол'!$E$3<=0,'Рабочий протокол'!$E$3>MIN(F$4:F$103))),AND(OR(I$4<>"",I$5<>""),COUNT(I$4:I$5)<>2)),"ПРОВЕРЬТЕ ЛУЧШИЕ","OK") -> OK | W16: =IF(COUNTA('Рабочий протокол'!B16:C16,'Рабочий протокол'!F16,'Рабочий протокол'!J16)=0,"",IF(S16<>"",S16,IF(T16<>"",T16,IF(U16<>"",U16,V16))))
A17: 14 | B17: =IF(ISERROR('Рабочий протокол'!F17),"ТЕКСТ",SUBSTITUTE(TRIM(SUBSTITUTE('Рабочий протокол'!F17&"",CHAR(160)," ")),",",".")) | C17: =IF(ISERROR('Рабочий протокол'!J17),"ТЕКСТ",SUBSTITUTE(TRIM(SUBSTITUTE('Рабочий протокол'!J17&"",CHAR(160)," ")),",",".")) | D17: =IF(B17="","",IF(ISNUMBER('Рабочий протокол'!F17),'Рабочий протокол'!F17,IF(AND(OR(K17="",K17="."),LEN(SUBSTITUTE(B17,".",""))>0,LEN(B17)<=15),VALUE(SUBSTITUTE(B17,".",""))/10^IF(ISNUMBER(FIND(".",B17)),LEN(B17)-FIND(".",B17),0),"ТЕКСТ"))) | E17: =IF(C17="","",IF(ISNUMBER('Рабочий протокол'!J17),'Рабочий протокол'!J17,IF(AND(OR(M17="",M17="."),LEN(SUBSTITUTE(C17,".",""))>0,LEN(C17)<=15),VALUE(SUBSTITUTE(C17,".",""))/10^IF(ISNUMBER(FIND(".",C17)),LEN(C17)-FIND(".",C17),0),"ТЕКСТ"))) | F17: =IF(ISNUMBER(D17),IF(D17>0,D17,""),"") | J17: =SUBSTITUTE(SUBSTITUTE(SUBSTITUTE(SUBSTITUTE(SUBSTITUTE(B17,"0",""),"1",""),"2",""),"3",""),"4","") | K17: =SUBSTITUTE(SUBSTITUTE(SUBSTITUTE(SUBSTITUTE(SUBSTITUTE(J17,"5",""),"6",""),"7",""),"8",""),"9","") | L17: =SUBSTITUTE(SUBSTITUTE(SUBSTITUTE(SUBSTITUTE(SUBSTITUTE(C17,"0",""),"1",""),"2",""),"3",""),"4","") | M17: =SUBSTITUTE(SUBSTITUTE(SUBSTITUTE(SUBSTITUTE(SUBSTITUTE(L17,"5",""),"6",""),"7",""),"8",""),"9","") | P17: =AND(ISNUMBER(FIND(MID("x"&'Рабочий протокол'!C17,2,1),"0123456789")),ISNUMBER(FIND(MID("x"&'Рабочий протокол'!C17,3,1),"0123456789")),ISNUMBER(FIND(MID("x"&'Рабочий протокол'!C17,4,1),"0123456789")),ISNUMBER(FIND(MID("x"&'Рабочий протокол'!C17,5,1),"0123456789")),ISNUMBER(FIND(MID("x"&'Рабочий протокол'!C17,6,1),"0123456789"))) -> TRUE | Q17: =AND(ISNUMBER(FIND(MID("x"&'Рабочий протокол'!C17,7,1),"0123456789")),ISNUMBER(FIND(MID("x"&'Рабочий протокол'!C17,8,1),"0123456789")),ISNUMBER(FIND(MID("x"&'Рабочий протокол'!C17,9,1),"0123456789")),ISNUMBER(FIND(MID("x"&'Рабочий протокол'!C17,10,1),"0123456789")),ISNUMBER(FIND(MID("x"&'Рабочий протокол'!C17,11,1),"0123456789"))) -> TRUE | R17: =AND(ISNUMBER(FIND(MID("x"&'Рабочий протокол'!C17,12,1),"0123456789")),ISNUMBER(FIND(MID("x"&'Рабочий протокол'!C17,13,1),"0123456789")),ISNUMBER(FIND(MID("x"&'Рабочий протокол'!C17,14,1),"0123456789"))) -> TRUE | S17: =IF('Рабочий протокол'!C17="","НЕТ КОДА",IF(NOT(AND(LEN('Рабочий протокол'!C17&"")=13,P17,Q17,R17)),"КОД: 13 ЦИФР",IF(COUNTIF('Рабочий протокол'!C$4:C$103,'Рабочий протокол'!C17)>1,"ПОВТОР КОДА",""))) -> НЕТ КОДА | T17: =IF(D17="","ВНЕСИТЕ ВРЕМЯ",IF(NOT(ISNUMBER(D17)),"ВРЕМЯ: ВВЕДИТЕ ЧИСЛО",IF(OR(D17<0,ROUND(D17,2)<>D17),"ВРЕМЯ: ≥0, ДО 2 ЗНАКОВ",""))) -> ВНЕСИТЕ ВРЕМЯ | U17: =IF(E17="","ВНЕСИТЕ ГИМНАСТИКУ",IF(NOT(ISNUMBER(E17)),"ГИМНАСТИКА: ВВЕДИТЕ ЧИСЛО",IF(OR(E17<0,E17>10,ROUND(E17,2)<>E17),"ГИМНАСТИКА: 0–10, ДО 2 ЗНАКОВ",""))) -> ВНЕСИТЕ ГИМНАСТИКУ | V17: =IF(OR(COUNT('Рабочий протокол'!$E$3,'Рабочий протокол'!$I$3)<>2,'Рабочий протокол'!$E$3<0,'Рабочий протокол'!$I$3<MAX(E$4:E$103),'Рабочий протокол'!$I$3>10,AND(COUNT(F$4:F$103)>0,OR('Рабочий протокол'!$E$3<=0,'Рабочий протокол'!$E$3>MIN(F$4:F$103))),AND(OR(I$4<>"",I$5<>""),COUNT(I$4:I$5)<>2)),"ПРОВЕРЬТЕ ЛУЧШИЕ","OK") -> OK | W17: =IF(COUNTA('Рабочий протокол'!B17:C17,'Рабочий протокол'!F17,'Рабочий протокол'!J17)=0,"",IF(S17<>"",S17,IF(T17<>"",T17,IF(U17<>"",U17,V17))))
... A103: 100 | B103: =IF(ISERROR('Рабочий протокол'!F103),"ТЕКСТ",SUBSTITUTE(TRIM(SUBSTITUTE('Рабочий протокол'!F103&"",CHAR(160)," ")),",",".")) | C103: =IF(ISERROR('Рабочий протокол'!J103),"ТЕКСТ",SUBSTITUTE(TRIM(SUBSTITUTE('Рабочий протокол'!J103&"",CHAR(160)," ")),",",".")) | D103: =IF(B103="","",IF(ISNUMBER('Рабочий протокол'!F103),'Рабочий протокол'!F103,IF(AND(OR(K103="",K103="."),LEN(SUBSTITUTE(B103,".",""))>0,LEN(B103)<=15),VALUE(SUBSTITUTE(B103,".",""))/10^IF(ISNUMBER(FIND(".",B103)),LEN(B103)-FIND(".",B103),0),"ТЕКСТ"))) | E103: =IF(C103="","",IF(ISNUMBER('Рабочий протокол'!J103),'Рабочий протокол'!J103,IF(AND(OR(M103="",M103="."),LEN(SUBSTITUTE(C103,".",""))>0,LEN(C103)<=15),VALUE(SUBSTITUTE(C103,".",""))/10^IF(ISNUMBER(FIND(".",C103)),LEN(C103)-FIND(".",C103),0),"ТЕКСТ"))) | F103: =IF(ISNUMBER(D103),IF(D103>0,D103,""),"") | J103: =SUBSTITUTE(SUBSTITUTE(SUBSTITUTE(SUBSTITUTE(SUBSTITUTE(B103,"0",""),"1",""),"2",""),"3",""),"4","") | K103: =SUBSTITUTE(SUBSTITUTE(SUBSTITUTE(SUBSTITUTE(SUBSTITUTE(J103,"5",""),"6",""),"7",""),"8",""),"9","") | L103: =SUBSTITUTE(SUBSTITUTE(SUBSTITUTE(SUBSTITUTE(SUBSTITUTE(C103,"0",""),"1",""),"2",""),"3",""),"4","") | M103: =SUBSTITUTE(SUBSTITUTE(SUBSTITUTE(SUBSTITUTE(SUBSTITUTE(L103,"5",""),"6",""),"7",""),"8",""),"9","") | P103: =AND(ISNUMBER(FIND(MID("x"&'Рабочий протокол'!C103,2,1),"0123456789")),ISNUMBER(FIND(MID("x"&'Рабочий протокол'!C103,3,1),"0123456789")),ISNUMBER(FIND(MID("x"&'Рабочий протокол'!C103,4,1),"0123456789")),ISNUMBER(FIND(MID("x"&'Рабочий протокол'!C103,5,1),"0123456789")),ISNUMBER(FIND(MID("x"&'Рабочий протокол'!C103,6,1),"0123456789"))) -> TRUE | Q103: =AND(ISNUMBER(FIND(MID("x"&'Рабочий протокол'!C103,7,1),"0123456789")),ISNUMBER(FIND(MID("x"&'Рабочий протокол'!C103,8,1),"0123456789")),ISNUMBER(FIND(MID("x"&'Рабочий протокол'!C103,9,1),"0123456789")),ISNUMBER(FIND(MID("x"&'Рабочий протокол'!C103,10,1),"0123456789")),ISNUMBER(FIND(MID("x"&'Рабочий протокол'!C103,11,1),"0123456789"))) -> TRUE | R103: =AND(ISNUMBER(FIND(MID("x"&'Рабочий протокол'!C103,12,1),"0123456789")),ISNUMBER(FIND(MID("x"&'Рабочий протокол'!C103,13,1),"0123456789")),ISNUMBER(FIND(MID("x"&'Рабочий протокол'!C103,14,1),"0123456789"))) -> TRUE | S103: =IF('Рабочий протокол'!C103="","НЕТ КОДА",IF(NOT(AND(LEN('Рабочий протокол'!C103&"")=13,P103,Q103,R103)),"КОД: 13 ЦИФР",IF(COUNTIF('Рабочий протокол'!C$4:C$103,'Рабочий протокол'!C103)>1,"ПОВТОР КОДА",""))) -> НЕТ КОДА | T103: =IF(D103="","ВНЕСИТЕ ВРЕМЯ",IF(NOT(ISNUMBER(D103)),"ВРЕМЯ: ВВЕДИТЕ ЧИСЛО",IF(OR(D103<0,ROUND(D103,2)<>D103),"ВРЕМЯ: ≥0, ДО 2 ЗНАКОВ",""))) -> ВНЕСИТЕ ВРЕМЯ | U103: =IF(E103="","ВНЕСИТЕ ГИМНАСТИКУ",IF(NOT(ISNUMBER(E103)),"ГИМНАСТИКА: ВВЕДИТЕ ЧИСЛО",IF(OR(E103<0,E103>10,ROUND(E103,2)<>E103),"ГИМНАСТИКА: 0–10, ДО 2 ЗНАКОВ",""))) -> ВНЕСИТЕ ГИМНАСТИКУ | V103: =IF(OR(COUNT('Рабочий протокол'!$E$3,'Рабочий протокол'!$I$3)<>2,'Рабочий протокол'!$E$3<0,'Рабочий протокол'!$I$3<MAX(E$4:E$103),'Рабочий протокол'!$I$3>10,AND(COUNT(F$4:F$103)>0,OR('Рабочий протокол'!$E$3<=0,'Рабочий протокол'!$E$3>MIN(F$4:F$103))),AND(OR(I$4<>"",I$5<>""),COUNT(I$4:I$5)<>2)),"ПРОВЕРЬТЕ ЛУЧШИЕ","OK") -> OK | W103: =IF(COUNTA('Рабочий протокол'!B103:C103,'Рабочий протокол'!F103,'Рабочий протокол'!J103)=0,"",IF(S103<>"",S103,IF(T103<>"",T103,IF(U103<>"",U103,V103))))
